BEGIN:VCALENDAR
VERSION:2.0
PRODID:-//Werner Heisenberg Gymnasium - ECPv6.15.15//NONSGML v1.0//EN
CALSCALE:GREGORIAN
METHOD:PUBLISH
X-ORIGINAL-URL:https://whg-garching.de
X-WR-CALDESC:Veranstaltungen für Werner Heisenberg Gymnasium
REFRESH-INTERVAL;VALUE=DURATION:PT1H
X-Robots-Tag:noindex
X-PUBLISHED-TTL:PT1H
BEGIN:VTIMEZONE
TZID:Europe/Berlin
BEGIN:DAYLIGHT
TZOFFSETFROM:+0100
TZOFFSETTO:+0200
TZNAME:CEST
DTSTART:20250330T010000
END:DAYLIGHT
BEGIN:STANDARD
TZOFFSETFROM:+0200
TZOFFSETTO:+0100
TZNAME:CET
DTSTART:20251026T010000
END:STANDARD
BEGIN:DAYLIGHT
TZOFFSETFROM:+0100
TZOFFSETTO:+0200
TZNAME:CEST
DTSTART:20260329T010000
END:DAYLIGHT
BEGIN:STANDARD
TZOFFSETFROM:+0200
TZOFFSETTO:+0100
TZNAME:CET
DTSTART:20261025T010000
END:STANDARD
BEGIN:DAYLIGHT
TZOFFSETFROM:+0100
TZOFFSETTO:+0200
TZNAME:CEST
DTSTART:20270328T010000
END:DAYLIGHT
BEGIN:STANDARD
TZOFFSETFROM:+0200
TZOFFSETTO:+0100
TZNAME:CET
DTSTART:20271031T010000
END:STANDARD
END:VTIMEZONE
BEGIN:VEVENT
DTSTART;VALUE=DATE:20260427
DTEND;VALUE=DATE:20260504
DTSTAMP:20260423T154113
CREATED:20260326T051347Z
LAST-MODIFIED:20260326T051347Z
UID:15496-1777248000-1777852799@whg-garching.de
SUMMARY:WHG in Reims
DESCRIPTION:
URL:https://whg-garching.de/event/whg-in-reims/
END:VEVENT
BEGIN:VEVENT
DTSTART;VALUE=DATE:20260506
DTEND;VALUE=DATE:20260507
DTSTAMP:20260423T154113
CREATED:20260227T064822Z
LAST-MODIFIED:20260227T064822Z
UID:15254-1778025600-1778111999@whg-garching.de
SUMMARY:Abitur Mathematik
DESCRIPTION:
URL:https://whg-garching.de/event/abitur-mathematik/
END:VEVENT
BEGIN:VEVENT
DTSTART;VALUE=DATE:20260507
DTEND;VALUE=DATE:20260508
DTSTAMP:20260423T154113
CREATED:20260227T065029Z
LAST-MODIFIED:20260227T065029Z
UID:15256-1778112000-1778198399@whg-garching.de
SUMMARY:ABO Q12 / Vocatium / kein Unterricht
DESCRIPTION:
URL:https://whg-garching.de/event/abo-q12-vocatium-kein-unterricht/
END:VEVENT
BEGIN:VEVENT
DTSTART;VALUE=DATE:20260508
DTEND;VALUE=DATE:20260509
DTSTAMP:20260423T154113
CREATED:20260227T065057Z
LAST-MODIFIED:20260227T065057Z
UID:15258-1778198400-1778284799@whg-garching.de
SUMMARY:Abitur Französisch (eA\, gA)
DESCRIPTION:
URL:https://whg-garching.de/event/abitur-franzoesisch-ea-ga/
END:VEVENT
BEGIN:VEVENT
DTSTART;VALUE=DATE:20260511
DTEND;VALUE=DATE:20260512
DTSTAMP:20260423T154113
CREATED:20260227T065119Z
LAST-MODIFIED:20260227T065119Z
UID:15260-1778457600-1778543999@whg-garching.de
SUMMARY:Abitur alle weiteren Fächer gA (L\, Info\, WR\, Reli\, G\, Geo\, PuG\, externe FS)
DESCRIPTION:
URL:https://whg-garching.de/event/abitur-alle-weiteren-faecher-ga-l-info-wr-reli-g-geo-pug-externe-fs/
END:VEVENT
BEGIN:VEVENT
DTSTART;VALUE=DATE:20260511
DTEND;VALUE=DATE:20260514
DTSTAMP:20260423T154113
CREATED:20260227T065322Z
LAST-MODIFIED:20260227T065322Z
UID:15266-1778457600-1778716799@whg-garching.de
SUMMARY:Neuanmeldung 5. Klassen
DESCRIPTION:
URL:https://whg-garching.de/event/neuanmeldung-5-klassen-2/
END:VEVENT
BEGIN:VEVENT
DTSTART;VALUE=DATE:20260512
DTEND;VALUE=DATE:20260513
DTSTAMP:20260423T154113
CREATED:20260312T070324Z
LAST-MODIFIED:20260312T070324Z
UID:15421-1778544000-1778630399@whg-garching.de
SUMMARY:DokFest alle 8. Klassen
DESCRIPTION:
URL:https://whg-garching.de/event/dokfest-alle-8-klassen/
END:VEVENT
BEGIN:VEVENT
DTSTART;VALUE=DATE:20260512
DTEND;VALUE=DATE:20260513
DTSTAMP:20260423T154113
CREATED:20260312T070355Z
LAST-MODIFIED:20260312T070355Z
UID:15423-1778544000-1778630399@whg-garching.de
SUMMARY:Projekttag P-Seminar MoJu
DESCRIPTION:
URL:https://whg-garching.de/event/projekttag-p-seminar-moju/
END:VEVENT
BEGIN:VEVENT
DTSTART;VALUE=DATE:20260513
DTEND;VALUE=DATE:20260514
DTSTAMP:20260423T154113
CREATED:20260227T065141Z
LAST-MODIFIED:20260227T065141Z
UID:15262-1778630400-1778716799@whg-garching.de
SUMMARY:Abitur alle weiteren Leistungsfächer (Geo\, Sport\, Russ.)
DESCRIPTION:
URL:https://whg-garching.de/event/abitur-alle-weiteren-leistungsfaecher-geo-sport-russ/
END:VEVENT
BEGIN:VEVENT
DTSTART;VALUE=DATE:20260515
DTEND;VALUE=DATE:20260516
DTSTAMP:20260423T154113
CREATED:20260227T065256Z
LAST-MODIFIED:20260227T065256Z
UID:15264-1778803200-1778889599@whg-garching.de
SUMMARY:Ausweichtermin für schriftliche Prüfungen
DESCRIPTION:
URL:https://whg-garching.de/event/ausweichtermin-fuer-schriftliche-pruefungen/
END:VEVENT
BEGIN:VEVENT
DTSTART;VALUE=DATE:20260515
DTEND;VALUE=DATE:20260516
DTSTAMP:20260423T154113
CREATED:20260227T065339Z
LAST-MODIFIED:20260227T065339Z
UID:15269-1778803200-1778889599@whg-garching.de
SUMMARY:Neuanmeldung 5. Klassen
DESCRIPTION:
URL:https://whg-garching.de/event/neuanmeldung-5-klassen-3/
END:VEVENT
BEGIN:VEVENT
DTSTART;VALUE=DATE:20260515
DTEND;VALUE=DATE:20260516
DTSTAMP:20260423T154113
CREATED:20260422T162729Z
LAST-MODIFIED:20260422T162729Z
UID:15701-1778803200-1778889599@whg-garching.de
SUMMARY:Jahrgangsstufenversammlung 9. Klassen
DESCRIPTION:
URL:https://whg-garching.de/event/jahrgangsstufenversammlung-9-klassen/
END:VEVENT
BEGIN:VEVENT
DTSTART;VALUE=DATE:20260518
DTEND;VALUE=DATE:20260523
DTSTAMP:20260423T154113
CREATED:20260227T065406Z
LAST-MODIFIED:20260227T065406Z
UID:15271-1779062400-1779494399@whg-garching.de
SUMMARY:Berufspraktikum 9. Klassen
DESCRIPTION:
URL:https://whg-garching.de/event/berufspraktikum-9-klassen/
END:VEVENT
BEGIN:VEVENT
DTSTART;VALUE=DATE:20260518
DTEND;VALUE=DATE:20260523
DTSTAMP:20260423T154113
CREATED:20260227T065454Z
LAST-MODIFIED:20260227T065454Z
UID:15273-1779062400-1779494399@whg-garching.de
SUMMARY:Kolloquiumsprüfungen
DESCRIPTION:
URL:https://whg-garching.de/event/kolloquiumspruefungen/
END:VEVENT
BEGIN:VEVENT
DTSTART;VALUE=DATE:20260520
DTEND;VALUE=DATE:20260521
DTSTAMP:20260423T154113
CREATED:20260422T162756Z
LAST-MODIFIED:20260422T162756Z
UID:15703-1779235200-1779321599@whg-garching.de
SUMMARY:Regionalentscheid Fußball Mädchen am WHG
DESCRIPTION:
URL:https://whg-garching.de/event/regionalentscheid-fussball-maedchen-am-whg/
END:VEVENT
BEGIN:VEVENT
DTSTART;VALUE=DATE:20260522
DTEND;VALUE=DATE:20260523
DTSTAMP:20260423T154113
CREATED:20260227T065518Z
LAST-MODIFIED:20260227T065518Z
UID:15275-1779408000-1779494399@whg-garching.de
SUMMARY:Unterrichtsende 13:00 Uhr\, Nachmittagsunterricht entfällt; Oberstufe/ Absprache Kursleiter
DESCRIPTION:
URL:https://whg-garching.de/event/unterrichtsende-1300-uhr-nachmittagsunterricht-entfaellt-oberstufe-absprache-kursleiter/
END:VEVENT
BEGIN:VEVENT
DTSTART;VALUE=DATE:20260523
DTEND;VALUE=DATE:20260608
DTSTAMP:20260423T154113
CREATED:20260227T065644Z
LAST-MODIFIED:20260227T065644Z
UID:15277-1779494400-1780876799@whg-garching.de
SUMMARY:Pfingstferien
DESCRIPTION:
URL:https://whg-garching.de/event/pfingstferien-2/
END:VEVENT
BEGIN:VEVENT
DTSTART;VALUE=DATE:20260525
DTEND;VALUE=DATE:20260526
DTSTAMP:20260423T154113
CREATED:20260227T070940Z
LAST-MODIFIED:20260227T070940Z
UID:15304-1779667200-1779753599@whg-garching.de
SUMMARY:Lernstandserhebung NuT
DESCRIPTION:
URL:https://whg-garching.de/event/lernstandserhebung-nut/
END:VEVENT
END:VCALENDAR