BEGIN:VCALENDAR
VERSION:2.0
PRODID:-//Werner Heisenberg Gymnasium - ECPv6.15.15//NONSGML v1.0//EN
CALSCALE:GREGORIAN
METHOD:PUBLISH
X-ORIGINAL-URL:https://whg-garching.de
X-WR-CALDESC:Veranstaltungen für Werner Heisenberg Gymnasium
REFRESH-INTERVAL;VALUE=DURATION:PT1H
X-Robots-Tag:noindex
X-PUBLISHED-TTL:PT1H
BEGIN:VTIMEZONE
TZID:Europe/Berlin
BEGIN:DAYLIGHT
TZOFFSETFROM:+0100
TZOFFSETTO:+0200
TZNAME:CEST
DTSTART:20250330T010000
END:DAYLIGHT
BEGIN:STANDARD
TZOFFSETFROM:+0200
TZOFFSETTO:+0100
TZNAME:CET
DTSTART:20251026T010000
END:STANDARD
BEGIN:DAYLIGHT
TZOFFSETFROM:+0100
TZOFFSETTO:+0200
TZNAME:CEST
DTSTART:20260329T010000
END:DAYLIGHT
BEGIN:STANDARD
TZOFFSETFROM:+0200
TZOFFSETTO:+0100
TZNAME:CET
DTSTART:20261025T010000
END:STANDARD
BEGIN:DAYLIGHT
TZOFFSETFROM:+0100
TZOFFSETTO:+0200
TZNAME:CEST
DTSTART:20270328T010000
END:DAYLIGHT
BEGIN:STANDARD
TZOFFSETFROM:+0200
TZOFFSETTO:+0100
TZNAME:CET
DTSTART:20271031T010000
END:STANDARD
END:VTIMEZONE
BEGIN:VEVENT
DTSTART;VALUE=DATE:20260202
DTEND;VALUE=DATE:20260203
DTSTAMP:20260423T171213
CREATED:20251030T110340Z
LAST-MODIFIED:20251030T110340Z
UID:14726-1769990400-1770076799@whg-garching.de
SUMMARY:Jahrgangsstufenversammlung 11. Klassen 1. Stunde / Fächerwahl
DESCRIPTION:
URL:https://whg-garching.de/event/jahrgangsstufenversammlung-11-klassen-1-stunde-faecherwahl/
END:VEVENT
BEGIN:VEVENT
DTSTART;VALUE=DATE:20260203
DTEND;VALUE=DATE:20260204
DTSTAMP:20260423T171213
CREATED:20251020T140427Z
LAST-MODIFIED:20251020T140427Z
UID:14650-1770076800-1770163199@whg-garching.de
SUMMARY:Vortrag für Q12 in 3.-4. Std / Dr. Hünemörder
DESCRIPTION:
URL:https://whg-garching.de/event/vortrag-fuer-q12-in-3-4-std-dr-huenemoerder/
END:VEVENT
BEGIN:VEVENT
DTSTART;VALUE=DATE:20260205
DTEND;VALUE=DATE:20260206
DTSTAMP:20260423T171213
CREATED:20251030T110423Z
LAST-MODIFIED:20251030T110423Z
UID:14730-1770249600-1770335999@whg-garching.de
SUMMARY:Abgabe Wahl Kursprogramm 10. Klassen (KU / MU)
DESCRIPTION:
URL:https://whg-garching.de/event/abgabe-wahl-kursprogramm-10-klassen-ku-mu-3/
END:VEVENT
BEGIN:VEVENT
DTSTART;VALUE=DATE:20260206
DTEND;VALUE=DATE:20260207
DTSTAMP:20260423T171213
CREATED:20260205T154616Z
LAST-MODIFIED:20260205T154616Z
UID:15133-1770336000-1770422399@whg-garching.de
SUMMARY:Filmabend Halle C / SMV
DESCRIPTION:
URL:https://whg-garching.de/event/filmabend-halle-c-smv/
END:VEVENT
BEGIN:VEVENT
DTSTART;VALUE=DATE:20260210
DTEND;VALUE=DATE:20260211
DTSTAMP:20260423T171213
CREATED:20260205T154651Z
LAST-MODIFIED:20260205T154651Z
UID:15135-1770681600-1770767999@whg-garching.de
SUMMARY:Exkursion 7d IX-Quadrat
DESCRIPTION:
URL:https://whg-garching.de/event/exkursion-7d-ix-quadrat/
END:VEVENT
BEGIN:VEVENT
DTSTART;VALUE=DATE:20260211
DTEND;VALUE=DATE:20260212
DTSTAMP:20260423T171213
CREATED:20260205T154804Z
LAST-MODIFIED:20260205T154804Z
UID:15139-1770768000-1770854399@whg-garching.de
SUMMARY:Berufsberatung Agentur für Arbeit
DESCRIPTION:
URL:https://whg-garching.de/event/berufsberatung-agentur-fuer-arbeit/
END:VEVENT
BEGIN:VEVENT
DTSTART;VALUE=DATE:20260211
DTEND;VALUE=DATE:20260214
DTSTAMP:20260423T171213
CREATED:20260205T154713Z
LAST-MODIFIED:20260205T154713Z
UID:15137-1770768000-1771027199@whg-garching.de
SUMMARY:Faschingstage SMV
DESCRIPTION:
URL:https://whg-garching.de/event/faschingstage-smv/
END:VEVENT
BEGIN:VEVENT
DTSTART;VALUE=DATE:20260213
DTEND;VALUE=DATE:20260214
DTSTAMP:20260423T171213
CREATED:20251030T110451Z
LAST-MODIFIED:20251030T110451Z
UID:14732-1770940800-1771027199@whg-garching.de
SUMMARY:Zeugnisse 12/1\, Jahrgangsstufenversammlung Q12 / Wahl für Q13
DESCRIPTION:
URL:https://whg-garching.de/event/zeugnisse-12-1-jahrgangsstufenversammlung-q12-wahl-fuer-q13/
END:VEVENT
BEGIN:VEVENT
DTSTART;VALUE=DATE:20260213
DTEND;VALUE=DATE:20260214
DTSTAMP:20260423T171213
CREATED:20251030T110508Z
LAST-MODIFIED:20251030T110508Z
UID:14734-1770940800-1771027199@whg-garching.de
SUMMARY:Ende des ersten Halbjahres
DESCRIPTION:
URL:https://whg-garching.de/event/ende-des-ersten-halbjahres/
END:VEVENT
BEGIN:VEVENT
DTSTART;VALUE=DATE:20260213
DTEND;VALUE=DATE:20260214
DTSTAMP:20260423T171213
CREATED:20251030T110529Z
LAST-MODIFIED:20251030T110529Z
UID:14736-1770940800-1771027199@whg-garching.de
SUMMARY:Unterrichtsende 13:00 für 5-11; Oberstufe auf Absprache mit den Kursleitern
DESCRIPTION:
URL:https://whg-garching.de/event/unterrichtsende-1300-fuer-5-11-oberstufe-auf-absprache-mit-den-kursleitern-5/
END:VEVENT
BEGIN:VEVENT
DTSTART;VALUE=DATE:20260213
DTEND;VALUE=DATE:20260214
DTSTAMP:20260423T171213
CREATED:20251030T110553Z
LAST-MODIFIED:20251030T110553Z
UID:14738-1770940800-1771027199@whg-garching.de
SUMMARY:Vergabe der Seminararbeitsthemen Q12
DESCRIPTION:
URL:https://whg-garching.de/event/vergabe-der-seminararbeitsthemen-q12/
END:VEVENT
BEGIN:VEVENT
DTSTART;VALUE=DATE:20260213
DTEND;VALUE=DATE:20260214
DTSTAMP:20260423T171213
CREATED:20251126T072227Z
LAST-MODIFIED:20251126T072227Z
UID:14897-1770940800-1771027199@whg-garching.de
SUMMARY:Akademie-Tag (ca. 60 SuS)
DESCRIPTION:
URL:https://whg-garching.de/event/akademie-tag-ca-60-sus/
END:VEVENT
BEGIN:VEVENT
DTSTART;VALUE=DATE:20260216
DTEND;VALUE=DATE:20260221
DTSTAMP:20260423T171213
CREATED:20251030T110614Z
LAST-MODIFIED:20251030T110614Z
UID:14740-1771200000-1771631999@whg-garching.de
SUMMARY:Frühjahrsferien
DESCRIPTION:
URL:https://whg-garching.de/event/fruehjahrsferien-2/
END:VEVENT
BEGIN:VEVENT
DTSTART;VALUE=DATE:20260223
DTEND;VALUE=DATE:20260224
DTSTAMP:20260423T171213
CREATED:20251030T110642Z
LAST-MODIFIED:20251030T110642Z
UID:14742-1771804800-1771891199@whg-garching.de
SUMMARY:Einführungskonferenz neue KollegInnen
DESCRIPTION:
URL:https://whg-garching.de/event/einfuehrungskonferenz-neue-kolleginnen-2/
END:VEVENT
BEGIN:VEVENT
DTSTART;VALUE=DATE:20260223
DTEND;VALUE=DATE:20260224
DTSTAMP:20260423T171213
CREATED:20260205T154221Z
LAST-MODIFIED:20260205T154221Z
UID:15127-1771804800-1771891199@whg-garching.de
SUMMARY:U18 Wahl in 5.\, 6.\, 9. und 10. Klasse / JSA / nach Plan
DESCRIPTION:
URL:https://whg-garching.de/event/u18-wahl-in-5-6-9-und-10-klasse-jsa-nach-plan/
END:VEVENT
BEGIN:VEVENT
DTSTART;VALUE=DATE:20260224
DTEND;VALUE=DATE:20260225
DTSTAMP:20260423T171213
CREATED:20251030T110718Z
LAST-MODIFIED:20251030T110718Z
UID:14744-1771891200-1771977599@whg-garching.de
SUMMARY:Informationsabend Sprachen- und Zweigwahl 5. Klasse 18 Uhr
DESCRIPTION:
URL:https://whg-garching.de/event/informationsabend-sprachen-und-zweigwahl-5-klasse-18-uhr/
END:VEVENT
BEGIN:VEVENT
DTSTART;VALUE=DATE:20260224
DTEND;VALUE=DATE:20260225
DTSTAMP:20260423T171213
CREATED:20251030T110758Z
LAST-MODIFIED:20251030T110758Z
UID:14746-1771891200-1771977599@whg-garching.de
SUMMARY:Informationsabend Sprachen- und Zweigwahl 7. Klasse 19:30 Uhr
DESCRIPTION:
URL:https://whg-garching.de/event/informationsabend-sprachen-und-zweigwahl-7-klasse-1930-uhr/
END:VEVENT
BEGIN:VEVENT
DTSTART;VALUE=DATE:20260224
DTEND;VALUE=DATE:20260225
DTSTAMP:20260423T171213
CREATED:20260205T154446Z
LAST-MODIFIED:20260205T154446Z
UID:15131-1771891200-1771977599@whg-garching.de
SUMMARY:ABO Q12 / Studienerkundungstag / kein Unterricht
DESCRIPTION:
URL:https://whg-garching.de/event/abo-q12-studienerkundungstag-kein-unterricht/
END:VEVENT
BEGIN:VEVENT
DTSTART;VALUE=DATE:20260224
DTEND;VALUE=DATE:20260225
DTSTAMP:20260423T171213
CREATED:20260205T154909Z
LAST-MODIFIED:20260205T154909Z
UID:15141-1771891200-1771977599@whg-garching.de
SUMMARY:Exkursion 7c IX-Quadrat
DESCRIPTION:
URL:https://whg-garching.de/event/exkursion-7c-ix-quadrat/
END:VEVENT
BEGIN:VEVENT
DTSTART;VALUE=DATE:20260225
DTEND;VALUE=DATE:20260226
DTSTAMP:20260423T171213
CREATED:20251030T110827Z
LAST-MODIFIED:20251030T110827Z
UID:14748-1771977600-1772063999@whg-garching.de
SUMMARY:PuG Termin TUM Kolleg Q12
DESCRIPTION:
URL:https://whg-garching.de/event/pug-termin-tum-kolleg-q12-3/
END:VEVENT
BEGIN:VEVENT
DTSTART;VALUE=DATE:20260226
DTEND;VALUE=DATE:20260227
DTSTAMP:20260423T171213
CREATED:20251020T140758Z
LAST-MODIFIED:20251020T140758Z
UID:14656-1772064000-1772150399@whg-garching.de
SUMMARY:Infoabend 10. Klassen AbiBac online
DESCRIPTION:
URL:https://whg-garching.de/event/infoabend-10-klassen-abibac-online/
END:VEVENT
BEGIN:VEVENT
DTSTART;VALUE=DATE:20260226
DTEND;VALUE=DATE:20260227
DTSTAMP:20260423T171213
CREATED:20260205T154333Z
LAST-MODIFIED:20260205T154333Z
UID:15129-1772064000-1772150399@whg-garching.de
SUMMARY:U18 Wahl in 7.\, 8. und 11. Klasse / JSA / nach Plan
DESCRIPTION:
URL:https://whg-garching.de/event/u18-wahl-in-7-8-und-11-klasse-jsa-nach-plan/
END:VEVENT
END:VCALENDAR