BEGIN:VCALENDAR
VERSION:2.0
PRODID:-//Werner Heisenberg Gymnasium - ECPv6.15.15//NONSGML v1.0//EN
CALSCALE:GREGORIAN
METHOD:PUBLISH
X-WR-CALNAME:Werner Heisenberg Gymnasium
X-ORIGINAL-URL:https://whg-garching.de
X-WR-CALDESC:Veranstaltungen für Werner Heisenberg Gymnasium
REFRESH-INTERVAL;VALUE=DURATION:PT1H
X-Robots-Tag:noindex
X-PUBLISHED-TTL:PT1H
BEGIN:VTIMEZONE
TZID:Europe/Berlin
BEGIN:DAYLIGHT
TZOFFSETFROM:+0100
TZOFFSETTO:+0200
TZNAME:CEST
DTSTART:20240331T010000
END:DAYLIGHT
BEGIN:STANDARD
TZOFFSETFROM:+0200
TZOFFSETTO:+0100
TZNAME:CET
DTSTART:20241027T010000
END:STANDARD
BEGIN:DAYLIGHT
TZOFFSETFROM:+0100
TZOFFSETTO:+0200
TZNAME:CEST
DTSTART:20250330T010000
END:DAYLIGHT
BEGIN:STANDARD
TZOFFSETFROM:+0200
TZOFFSETTO:+0100
TZNAME:CET
DTSTART:20251026T010000
END:STANDARD
BEGIN:DAYLIGHT
TZOFFSETFROM:+0100
TZOFFSETTO:+0200
TZNAME:CEST
DTSTART:20260329T010000
END:DAYLIGHT
BEGIN:STANDARD
TZOFFSETFROM:+0200
TZOFFSETTO:+0100
TZNAME:CET
DTSTART:20261025T010000
END:STANDARD
END:VTIMEZONE
BEGIN:VEVENT
DTSTART;VALUE=DATE:20250801
DTEND;VALUE=DATE:20250916
DTSTAMP:20260424T013200
CREATED:20250319T093031Z
LAST-MODIFIED:20250319T093031Z
UID:13093-1754006400-1757980799@whg-garching.de
SUMMARY:Sommerferien
DESCRIPTION:
URL:https://whg-garching.de/event/sommerferien/
END:VEVENT
BEGIN:VEVENT
DTSTART;VALUE=DATE:20250908
DTEND;VALUE=DATE:20250913
DTSTAMP:20260424T013200
CREATED:20250908T132228Z
LAST-MODIFIED:20250908T132228Z
UID:14143-1757289600-1757721599@whg-garching.de
SUMMARY:Prüfungswoche (AP\, NP\, BP 10.09.-12.09.25)
DESCRIPTION:
URL:https://whg-garching.de/event/pruefungswoche-ap-np-bp-10-09-12-09-25/
END:VEVENT
BEGIN:VEVENT
DTSTART;TZID=Europe/Berlin:20250908T080000
DTEND;TZID=Europe/Berlin:20250908T170000
DTSTAMP:20260424T013200
CREATED:20250908T135307Z
LAST-MODIFIED:20250908T135307Z
UID:14211-1757318400-1757350800@whg-garching.de
SUMMARY:Tag der Deutschen Einheit / unterrichtsfrei
DESCRIPTION:
URL:https://whg-garching.de/event/tag-der-deutschen-einheit-unterrichtsfrei-3/
END:VEVENT
BEGIN:VEVENT
DTSTART;VALUE=DATE:20250915
DTEND;VALUE=DATE:20250916
DTSTAMP:20260424T013200
CREATED:20250908T132314Z
LAST-MODIFIED:20250908T132314Z
UID:14145-1757894400-1757980799@whg-garching.de
SUMMARY:Empfang neue SuS / Eltern (PIN-Briefe\, O365)\, ThMi\, EiAr
DESCRIPTION:
URL:https://whg-garching.de/event/empfang-neue-sus-eltern-pin-briefe-o365-thmi-eiar/
END:VEVENT
BEGIN:VEVENT
DTSTART;VALUE=DATE:20250916
DTEND;VALUE=DATE:20250917
DTSTAMP:20260424T013200
CREATED:20250908T132340Z
LAST-MODIFIED:20250908T132340Z
UID:14147-1757980800-1758067199@whg-garching.de
SUMMARY:5. Klassen mit Eltern in Halle C (PIN-Briefe\, O365)
DESCRIPTION:
URL:https://whg-garching.de/event/5-klassen-mit-eltern-in-halle-c-pin-briefe-o365-2/
END:VEVENT
BEGIN:VEVENT
DTSTART;VALUE=DATE:20250916
DTEND;VALUE=DATE:20250917
DTSTAMP:20260424T013200
CREATED:20250908T132435Z
LAST-MODIFIED:20250908T132435Z
UID:14150-1757980800-1758067199@whg-garching.de
SUMMARY:Willkommen der neuen 5.Klasseltern durch den EB
DESCRIPTION:
URL:https://whg-garching.de/event/willkommen-der-neuen-5-klasseltern-durch-den-eb-3/
END:VEVENT
BEGIN:VEVENT
DTSTART;VALUE=DATE:20250916
DTEND;VALUE=DATE:20250917
DTSTAMP:20260424T013200
CREATED:20250908T132855Z
LAST-MODIFIED:20250908T132855Z
UID:14152-1757980800-1758067199@whg-garching.de
SUMMARY:Jahrgangsstufenversammlung Q12 (A050\, PoAl\, ReCl)
DESCRIPTION:
URL:https://whg-garching.de/event/jahrgangsstufenversammlung-q12-a050-poal-recl-3/
END:VEVENT
BEGIN:VEVENT
DTSTART;VALUE=DATE:20250916
DTEND;VALUE=DATE:20250917
DTSTAMP:20260424T013200
CREATED:20250908T133000Z
LAST-MODIFIED:20250908T133000Z
UID:14154-1757980800-1758067199@whg-garching.de
SUMMARY:Jahrgangsstufenversammlung Q13 (A050\, PoAl\, ReCl)
DESCRIPTION:
URL:https://whg-garching.de/event/jahrgangsstufenversammlung-q13-a050-poal-recl/
END:VEVENT
BEGIN:VEVENT
DTSTART;VALUE=DATE:20250916
DTEND;VALUE=DATE:20250917
DTSTAMP:20260424T013200
CREATED:20250908T133047Z
LAST-MODIFIED:20250908T133047Z
UID:14156-1757980800-1758067199@whg-garching.de
SUMMARY:Jgst. 5 Klassenleiterunterricht\, dann Unterricht nach Plan
DESCRIPTION:
URL:https://whg-garching.de/event/jgst-5-klassenleiterunterricht-dann-unterricht-nach-plan/
END:VEVENT
BEGIN:VEVENT
DTSTART;VALUE=DATE:20250916
DTEND;VALUE=DATE:20250917
DTSTAMP:20260424T013200
CREATED:20250908T133306Z
LAST-MODIFIED:20250908T133306Z
UID:14158-1757980800-1758067199@whg-garching.de
SUMMARY:Jgst. 6-13: Klassenleiterunterricht (6-11) bzw. Jahrgangsstufenversammlung (12/13)\, dann Unterricht nach Plan
DESCRIPTION:
URL:https://whg-garching.de/event/jgst-6-13-klassenleiterunterricht-6-11-bzw-jahrgangsstufenversammlung-12-13-dann-unterricht-nach-plan/
END:VEVENT
BEGIN:VEVENT
DTSTART;VALUE=DATE:20250916
DTEND;VALUE=DATE:20250917
DTSTAMP:20260424T013200
CREATED:20250908T133352Z
LAST-MODIFIED:20250908T133352Z
UID:14160-1757980800-1758067199@whg-garching.de
SUMMARY:Bücherausgabe neue SuS
DESCRIPTION:
URL:https://whg-garching.de/event/buecherausgabe-neue-sus/
END:VEVENT
BEGIN:VEVENT
DTSTART;VALUE=DATE:20250916
DTEND;VALUE=DATE:20250917
DTSTAMP:20260424T013200
CREATED:20250908T133546Z
LAST-MODIFIED:20250908T133546Z
UID:14162-1757980800-1758067199@whg-garching.de
SUMMARY:Beginn OGS für 6-8
DESCRIPTION:
URL:https://whg-garching.de/event/beginn-ogs-fuer-6-8/
END:VEVENT
BEGIN:VEVENT
DTSTART;VALUE=DATE:20250917
DTEND;VALUE=DATE:20250918
DTSTAMP:20260424T013200
CREATED:20250908T133642Z
LAST-MODIFIED:20250908T133642Z
UID:14164-1758067200-1758153599@whg-garching.de
SUMMARY:Jgst. 5 Jahrgangsstufenversammlung + KL UR - danach Unterricht nach Plan
DESCRIPTION:
URL:https://whg-garching.de/event/jgst-5-jahrgangsstufenversammlung-kl-ur-danach-unterricht-nach-plan-4/
END:VEVENT
BEGIN:VEVENT
DTSTART;VALUE=DATE:20250917
DTEND;VALUE=DATE:20250918
DTSTAMP:20260424T013200
CREATED:20250908T133713Z
LAST-MODIFIED:20250908T133713Z
UID:14166-1758067200-1758153599@whg-garching.de
SUMMARY:PW Änderung 8. Klassen nach Plan
DESCRIPTION:
URL:https://whg-garching.de/event/pw-aenderung-8-klassen-nach-plan/
END:VEVENT
BEGIN:VEVENT
DTSTART;VALUE=DATE:20250917
DTEND;VALUE=DATE:20250918
DTSTAMP:20260424T013200
CREATED:20250908T133745Z
LAST-MODIFIED:20250908T133745Z
UID:14168-1758067200-1758153599@whg-garching.de
SUMMARY:Bücherausgabe 5. Klassen nach Plan
DESCRIPTION:
URL:https://whg-garching.de/event/buecherausgabe-5-klassen-nach-plan-3/
END:VEVENT
BEGIN:VEVENT
DTSTART;VALUE=DATE:20250918
DTEND;VALUE=DATE:20250919
DTSTAMP:20260424T013200
CREATED:20250908T134021Z
LAST-MODIFIED:20250908T134021Z
UID:14170-1758153600-1758239999@whg-garching.de
SUMMARY:Beginn Nachmittagsunterricht für Q12 und Q13
DESCRIPTION:
URL:https://whg-garching.de/event/beginn-nachmittagsunterricht-fuer-q12-und-q13/
END:VEVENT
BEGIN:VEVENT
DTSTART;VALUE=DATE:20250918
DTEND;VALUE=DATE:20250919
DTSTAMP:20260424T013200
CREATED:20250908T134051Z
LAST-MODIFIED:20250908T134051Z
UID:14172-1758153600-1758239999@whg-garching.de
SUMMARY:Jahrgangsstufenversammlung und Kennenlerntag 5. Klassen (1 Doppelstunde pro Klasse)
DESCRIPTION:
URL:https://whg-garching.de/event/jahrgangsstufenversammlung-und-kennenlerntag-5-klassen-1-doppelstunde-pro-klasse-3/
END:VEVENT
BEGIN:VEVENT
DTSTART;VALUE=DATE:20250918
DTEND;VALUE=DATE:20250919
DTSTAMP:20260424T013200
CREATED:20250908T134115Z
LAST-MODIFIED:20250908T134115Z
UID:14174-1758153600-1758239999@whg-garching.de
SUMMARY:Elternabend OGS
DESCRIPTION:
URL:https://whg-garching.de/event/elternabend-ogs/
END:VEVENT
BEGIN:VEVENT
DTSTART;VALUE=DATE:20250919
DTEND;VALUE=DATE:20250920
DTSTAMP:20260424T013200
CREATED:20250908T134154Z
LAST-MODIFIED:20250908T134154Z
UID:14177-1758240000-1758326399@whg-garching.de
SUMMARY:Jgst. 5 Jahrgangsstufenversammlung\, danach Unterricht nach Plan
DESCRIPTION:
URL:https://whg-garching.de/event/jgst-5-jahrgangsstufenversammlung-danach-unterricht-nach-plan-2/
END:VEVENT
BEGIN:VEVENT
DTSTART;VALUE=DATE:20250922
DTEND;VALUE=DATE:20250923
DTSTAMP:20260424T013200
CREATED:20250908T134429Z
LAST-MODIFIED:20250908T134429Z
UID:14181-1758499200-1758585599@whg-garching.de
SUMMARY:Beginn Mensabetrieb
DESCRIPTION:
URL:https://whg-garching.de/event/beginn-mensabetrieb/
END:VEVENT
BEGIN:VEVENT
DTSTART;VALUE=DATE:20250922
DTEND;VALUE=DATE:20250923
DTSTAMP:20260424T013200
CREATED:20250908T134455Z
LAST-MODIFIED:20250908T134455Z
UID:14184-1758499200-1758585599@whg-garching.de
SUMMARY:Beginn OGS für 5. Klassen
DESCRIPTION:
URL:https://whg-garching.de/event/beginn-ogs-fuer-5-klassen/
END:VEVENT
BEGIN:VEVENT
DTSTART;VALUE=DATE:20250922
DTEND;VALUE=DATE:20250927
DTSTAMP:20260424T013200
CREATED:20250908T134225Z
LAST-MODIFIED:20250908T134225Z
UID:14179-1758499200-1758931199@whg-garching.de
SUMMARY:Klassenfotos nach Plan
DESCRIPTION:
URL:https://whg-garching.de/event/klassenfotos-nach-plan-3/
END:VEVENT
BEGIN:VEVENT
DTSTART;VALUE=DATE:20250923
DTEND;VALUE=DATE:20250924
DTSTAMP:20260424T013200
CREATED:20250908T134536Z
LAST-MODIFIED:20250908T134536Z
UID:14186-1758585600-1758671999@whg-garching.de
SUMMARY:Wandertag / Selbsterkundungstag Q12 (ABO) / Kursfotos Q12 und Q13 / ABO Q13: erste Wanderung P-Sem. Alpencross (11. Klassen)
DESCRIPTION:
URL:https://whg-garching.de/event/wandertag-selbsterkundungstag-q12-abo-kursfotos-q12-und-q13-abo-q13-erste-wanderung-p-sem-alpencross-11-klassen/
END:VEVENT
BEGIN:VEVENT
DTSTART;VALUE=DATE:20250925
DTEND;VALUE=DATE:20250926
DTSTAMP:20260424T013200
CREATED:20250908T134638Z
LAST-MODIFIED:20250908T134638Z
UID:14188-1758758400-1758844799@whg-garching.de
SUMMARY:Elterninfoabend Jgst. 5\, Klassenelternabende 5-11
DESCRIPTION:
URL:https://whg-garching.de/event/elterninfoabend-jgst-5-klassenelternabende-5-11/
END:VEVENT
BEGIN:VEVENT
DTSTART;VALUE=DATE:20250929
DTEND;VALUE=DATE:20250930
DTSTAMP:20260424T013200
CREATED:20250908T134749Z
LAST-MODIFIED:20250908T134749Z
UID:14190-1759104000-1759190399@whg-garching.de
SUMMARY:Beginn Nachmittagsunterricht 5-11\, Wahlunterricht und Brückenkurse
DESCRIPTION:
URL:https://whg-garching.de/event/beginn-nachmittagsunterricht-5-11-wahlunterricht-und-brueckenkurse-3/
END:VEVENT
BEGIN:VEVENT
DTSTART;VALUE=DATE:20250929
DTEND;VALUE=DATE:20250930
DTSTAMP:20260424T013200
CREATED:20250908T134815Z
LAST-MODIFIED:20250908T134815Z
UID:14193-1759104000-1759190399@whg-garching.de
SUMMARY:Jahrgangsstufentest Deutsch 6. Klassen
DESCRIPTION:
URL:https://whg-garching.de/event/jahrgangsstufentest-deutsch-6-klassen-3/
END:VEVENT
BEGIN:VEVENT
DTSTART;VALUE=DATE:20250929
DTEND;VALUE=DATE:20250930
DTSTAMP:20260424T013200
CREATED:20250908T134844Z
LAST-MODIFIED:20250908T134844Z
UID:14195-1759104000-1759190399@whg-garching.de
SUMMARY:Jahrgangsstufentest Mathematik 8. Klassen
DESCRIPTION:
URL:https://whg-garching.de/event/jahrgangsstufentest-mathematik-8-klassen-3/
END:VEVENT
BEGIN:VEVENT
DTSTART;VALUE=DATE:20250929
DTEND;VALUE=DATE:20250930
DTSTAMP:20260424T013200
CREATED:20250908T134909Z
LAST-MODIFIED:20250908T134909Z
UID:14198-1759104000-1759190399@whg-garching.de
SUMMARY:Jahrgangsstufentest Englisch 10. Klassen
DESCRIPTION:
URL:https://whg-garching.de/event/jahrgangsstufentest-englisch-10-klassen-3/
END:VEVENT
BEGIN:VEVENT
DTSTART;VALUE=DATE:20250930
DTEND;VALUE=DATE:20251001
DTSTAMP:20260424T013200
CREATED:20250924T162657Z
LAST-MODIFIED:20250924T162657Z
UID:14468-1759190400-1759276799@whg-garching.de
SUMMARY:Trachtentag SMV
DESCRIPTION:
URL:https://whg-garching.de/event/trachtentag-smv/
END:VEVENT
END:VCALENDAR