BEGIN:VCALENDAR
VERSION:2.0
PRODID:-//Werner Heisenberg Gymnasium - ECPv6.15.15//NONSGML v1.0//EN
CALSCALE:GREGORIAN
METHOD:PUBLISH
X-WR-CALNAME:Werner Heisenberg Gymnasium
X-ORIGINAL-URL:https://whg-garching.de
X-WR-CALDESC:Veranstaltungen für Werner Heisenberg Gymnasium
REFRESH-INTERVAL;VALUE=DURATION:PT1H
X-Robots-Tag:noindex
X-PUBLISHED-TTL:PT1H
BEGIN:VTIMEZONE
TZID:Europe/Berlin
BEGIN:DAYLIGHT
TZOFFSETFROM:+0100
TZOFFSETTO:+0200
TZNAME:CEST
DTSTART:20250330T010000
END:DAYLIGHT
BEGIN:STANDARD
TZOFFSETFROM:+0200
TZOFFSETTO:+0100
TZNAME:CET
DTSTART:20251026T010000
END:STANDARD
BEGIN:DAYLIGHT
TZOFFSETFROM:+0100
TZOFFSETTO:+0200
TZNAME:CEST
DTSTART:20260329T010000
END:DAYLIGHT
BEGIN:STANDARD
TZOFFSETFROM:+0200
TZOFFSETTO:+0100
TZNAME:CET
DTSTART:20261025T010000
END:STANDARD
BEGIN:DAYLIGHT
TZOFFSETFROM:+0100
TZOFFSETTO:+0200
TZNAME:CEST
DTSTART:20270328T010000
END:DAYLIGHT
BEGIN:STANDARD
TZOFFSETFROM:+0200
TZOFFSETTO:+0100
TZNAME:CET
DTSTART:20271031T010000
END:STANDARD
END:VTIMEZONE
BEGIN:VEVENT
DTSTART;VALUE=DATE:20260720
DTEND;VALUE=DATE:20260721
DTSTAMP:20260423T202800
CREATED:20260227T072415Z
LAST-MODIFIED:20260227T072425Z
UID:15345-1784505600-1784591999@whg-garching.de
SUMMARY:Bücherrückgabe 7. Klassen
DESCRIPTION:
URL:https://whg-garching.de/event/buecherrueckgabe-7-klassen/
END:VEVENT
BEGIN:VEVENT
DTSTART;VALUE=DATE:20260720
DTEND;VALUE=DATE:20260721
DTSTAMP:20260423T202800
CREATED:20260227T072446Z
LAST-MODIFIED:20260227T072446Z
UID:15347-1784505600-1784591999@whg-garching.de
SUMMARY:Probentag Junges Theater (5-7)
DESCRIPTION:
URL:https://whg-garching.de/event/probentag-junges-theater-5-7/
END:VEVENT
BEGIN:VEVENT
DTSTART;VALUE=DATE:20260720
DTEND;VALUE=DATE:20260723
DTSTAMP:20260423T202800
CREATED:20260422T163120Z
LAST-MODIFIED:20260422T163120Z
UID:15707-1784505600-1784764799@whg-garching.de
SUMMARY:voraussichtlich Schule als Staat
DESCRIPTION:
URL:https://whg-garching.de/event/voraussichtlich-schule-als-staat/
END:VEVENT
BEGIN:VEVENT
DTSTART;VALUE=DATE:20260720
DTEND;VALUE=DATE:20260725
DTSTAMP:20260423T202800
CREATED:20260227T072507Z
LAST-MODIFIED:20260227T072507Z
UID:15349-1784505600-1784937599@whg-garching.de
SUMMARY:ILV Repetitorium
DESCRIPTION:
URL:https://whg-garching.de/event/ilv-repetitorium/
END:VEVENT
END:VCALENDAR