BEGIN:VCALENDAR
VERSION:2.0
PRODID:-//Werner Heisenberg Gymnasium - ECPv6.15.15//NONSGML v1.0//EN
CALSCALE:GREGORIAN
METHOD:PUBLISH
X-WR-CALNAME:Werner Heisenberg Gymnasium
X-ORIGINAL-URL:https://whg-garching.de
X-WR-CALDESC:Veranstaltungen für Werner Heisenberg Gymnasium
REFRESH-INTERVAL;VALUE=DURATION:PT1H
X-Robots-Tag:noindex
X-PUBLISHED-TTL:PT1H
BEGIN:VTIMEZONE
TZID:Europe/Berlin
BEGIN:DAYLIGHT
TZOFFSETFROM:+0100
TZOFFSETTO:+0200
TZNAME:CEST
DTSTART:20250330T010000
END:DAYLIGHT
BEGIN:STANDARD
TZOFFSETFROM:+0200
TZOFFSETTO:+0100
TZNAME:CET
DTSTART:20251026T010000
END:STANDARD
BEGIN:DAYLIGHT
TZOFFSETFROM:+0100
TZOFFSETTO:+0200
TZNAME:CEST
DTSTART:20260329T010000
END:DAYLIGHT
BEGIN:STANDARD
TZOFFSETFROM:+0200
TZOFFSETTO:+0100
TZNAME:CET
DTSTART:20261025T010000
END:STANDARD
BEGIN:DAYLIGHT
TZOFFSETFROM:+0100
TZOFFSETTO:+0200
TZNAME:CEST
DTSTART:20270328T010000
END:DAYLIGHT
BEGIN:STANDARD
TZOFFSETFROM:+0200
TZOFFSETTO:+0100
TZNAME:CET
DTSTART:20271031T010000
END:STANDARD
END:VTIMEZONE
BEGIN:VEVENT
DTSTART;VALUE=DATE:20260713
DTEND;VALUE=DATE:20260718
DTSTAMP:20260423T202834
CREATED:20260227T071653Z
LAST-MODIFIED:20260227T071653Z
UID:15328-1783900800-1784332799@whg-garching.de
SUMMARY:Berlinfahrt Q12
DESCRIPTION:
URL:https://whg-garching.de/event/berlinfahrt-q12-2/
END:VEVENT
BEGIN:VEVENT
DTSTART;VALUE=DATE:20260713
DTEND;VALUE=DATE:20260718
DTSTAMP:20260423T202834
CREATED:20260227T071716Z
LAST-MODIFIED:20260227T071716Z
UID:15330-1783900800-1784332799@whg-garching.de
SUMMARY:vrsl. Alltagskompetenzwoche 9. Klassen (pro Tag eine Klasse)
DESCRIPTION:
URL:https://whg-garching.de/event/vrsl-alltagskompetenzwoche-9-klassen-pro-tag-eine-klasse-2/
END:VEVENT
BEGIN:VEVENT
DTSTART;VALUE=DATE:20260713
DTEND;VALUE=DATE:20260718
DTSTAMP:20260423T202834
CREATED:20260227T071748Z
LAST-MODIFIED:20260227T071748Z
UID:15332-1783900800-1784332799@whg-garching.de
SUMMARY:Berufspraktikum 11. Klassen
DESCRIPTION:
URL:https://whg-garching.de/event/berufspraktikum-11-klassen-3/
END:VEVENT
BEGIN:VEVENT
DTSTART;VALUE=DATE:20260714
DTEND;VALUE=DATE:20260715
DTSTAMP:20260423T202834
CREATED:20260227T071810Z
LAST-MODIFIED:20260227T071810Z
UID:15335-1783987200-1784073599@whg-garching.de
SUMMARY:Bundesjugendspiele
DESCRIPTION:
URL:https://whg-garching.de/event/bundesjugendspiele/
END:VEVENT
END:VCALENDAR