BEGIN:VCALENDAR
VERSION:2.0
PRODID:-//Werner Heisenberg Gymnasium - ECPv6.15.15//NONSGML v1.0//EN
CALSCALE:GREGORIAN
METHOD:PUBLISH
X-ORIGINAL-URL:https://whg-garching.de
X-WR-CALDESC:Veranstaltungen für Werner Heisenberg Gymnasium
REFRESH-INTERVAL;VALUE=DURATION:PT1H
X-Robots-Tag:noindex
X-PUBLISHED-TTL:PT1H
BEGIN:VTIMEZONE
TZID:Europe/Berlin
BEGIN:DAYLIGHT
TZOFFSETFROM:+0100
TZOFFSETTO:+0200
TZNAME:CEST
DTSTART:20250330T010000
END:DAYLIGHT
BEGIN:STANDARD
TZOFFSETFROM:+0200
TZOFFSETTO:+0100
TZNAME:CET
DTSTART:20251026T010000
END:STANDARD
BEGIN:DAYLIGHT
TZOFFSETFROM:+0100
TZOFFSETTO:+0200
TZNAME:CEST
DTSTART:20260329T010000
END:DAYLIGHT
BEGIN:STANDARD
TZOFFSETFROM:+0200
TZOFFSETTO:+0100
TZNAME:CET
DTSTART:20261025T010000
END:STANDARD
BEGIN:DAYLIGHT
TZOFFSETFROM:+0100
TZOFFSETTO:+0200
TZNAME:CEST
DTSTART:20270328T010000
END:DAYLIGHT
BEGIN:STANDARD
TZOFFSETFROM:+0200
TZOFFSETTO:+0100
TZNAME:CET
DTSTART:20271031T010000
END:STANDARD
END:VTIMEZONE
BEGIN:VEVENT
DTSTART;VALUE=DATE:20260706
DTEND;VALUE=DATE:20260711
DTSTAMP:20260423T203043
CREATED:20260227T071303Z
LAST-MODIFIED:20260227T071303Z
UID:15316-1783296000-1783727999@whg-garching.de
SUMMARY:Gewässerpraktikum 6. Klassen nach Plan
DESCRIPTION:
URL:https://whg-garching.de/event/gewaesserpraktikum-6-klassen-nach-plan-2/
END:VEVENT
BEGIN:VEVENT
DTSTART;VALUE=DATE:20260706
DTEND;VALUE=DATE:20260711
DTSTAMP:20260423T203043
CREATED:20260227T071421Z
LAST-MODIFIED:20260227T071421Z
UID:15318-1783296000-1783727999@whg-garching.de
SUMMARY:vrsl. Alltagskompetenzwoche 7. Klassen
DESCRIPTION:
URL:https://whg-garching.de/event/vrsl-alltagskompetenzwoche-7-klassen-2/
END:VEVENT
BEGIN:VEVENT
DTSTART;VALUE=DATE:20260707
DTEND;VALUE=DATE:20260708
DTSTAMP:20260423T203043
CREATED:20260227T071449Z
LAST-MODIFIED:20260227T071449Z
UID:15320-1783382400-1783468799@whg-garching.de
SUMMARY:P-Seminar-Präsentationsabend 11. Klassen
DESCRIPTION:
URL:https://whg-garching.de/event/p-seminar-praesentationsabend-11-klassen-3/
END:VEVENT
END:VCALENDAR