BEGIN:VCALENDAR
VERSION:2.0
PRODID:-//Werner Heisenberg Gymnasium - ECPv6.15.15//NONSGML v1.0//EN
CALSCALE:GREGORIAN
METHOD:PUBLISH
X-ORIGINAL-URL:https://whg-garching.de
X-WR-CALDESC:Veranstaltungen für Werner Heisenberg Gymnasium
REFRESH-INTERVAL;VALUE=DURATION:PT1H
X-Robots-Tag:noindex
X-PUBLISHED-TTL:PT1H
BEGIN:VTIMEZONE
TZID:Europe/Berlin
BEGIN:DAYLIGHT
TZOFFSETFROM:+0100
TZOFFSETTO:+0200
TZNAME:CEST
DTSTART:20250330T010000
END:DAYLIGHT
BEGIN:STANDARD
TZOFFSETFROM:+0200
TZOFFSETTO:+0100
TZNAME:CET
DTSTART:20251026T010000
END:STANDARD
BEGIN:DAYLIGHT
TZOFFSETFROM:+0100
TZOFFSETTO:+0200
TZNAME:CEST
DTSTART:20260329T010000
END:DAYLIGHT
BEGIN:STANDARD
TZOFFSETFROM:+0200
TZOFFSETTO:+0100
TZNAME:CET
DTSTART:20261025T010000
END:STANDARD
BEGIN:DAYLIGHT
TZOFFSETFROM:+0100
TZOFFSETTO:+0200
TZNAME:CEST
DTSTART:20270328T010000
END:DAYLIGHT
BEGIN:STANDARD
TZOFFSETFROM:+0200
TZOFFSETTO:+0100
TZNAME:CET
DTSTART:20271031T010000
END:STANDARD
END:VTIMEZONE
BEGIN:VEVENT
DTSTART;VALUE=DATE:20260615
DTEND;VALUE=DATE:20260620
DTSTAMP:20260423T190114
CREATED:20260227T070331Z
LAST-MODIFIED:20260227T070331Z
UID:15285-1781481600-1781913599@whg-garching.de
SUMMARY:Inzell 6. Klassen
DESCRIPTION:
URL:https://whg-garching.de/event/inzell-6-klassen/
END:VEVENT
BEGIN:VEVENT
DTSTART;VALUE=DATE:20260616
DTEND;VALUE=DATE:20260620
DTSTAMP:20260423T190114
CREATED:20260227T070401Z
LAST-MODIFIED:20260227T070401Z
UID:15287-1781568000-1781913599@whg-garching.de
SUMMARY:mündliche Zusatzprüfungen Abitur
DESCRIPTION:
URL:https://whg-garching.de/event/muendliche-zusatzpruefungen-abitur/
END:VEVENT
BEGIN:VEVENT
DTSTART;VALUE=DATE:20260618
DTEND;VALUE=DATE:20260623
DTSTAMP:20260423T190114
CREATED:20260227T070450Z
LAST-MODIFIED:20260422T163011Z
UID:15291-1781740800-1782172799@whg-garching.de
SUMMARY:Proben für das Sommerkonzert / B-Hallen gesperrt
DESCRIPTION:
URL:https://whg-garching.de/event/proben-fuer-das-sommerkonzert-b-hallen-gesperrt/
END:VEVENT
END:VCALENDAR