BEGIN:VCALENDAR
VERSION:2.0
PRODID:-//Werner Heisenberg Gymnasium - ECPv6.15.15//NONSGML v1.0//EN
CALSCALE:GREGORIAN
METHOD:PUBLISH
X-WR-CALNAME:Werner Heisenberg Gymnasium
X-ORIGINAL-URL:https://whg-garching.de
X-WR-CALDESC:Veranstaltungen für Werner Heisenberg Gymnasium
REFRESH-INTERVAL;VALUE=DURATION:PT1H
X-Robots-Tag:noindex
X-PUBLISHED-TTL:PT1H
BEGIN:VTIMEZONE
TZID:Europe/Berlin
BEGIN:DAYLIGHT
TZOFFSETFROM:+0100
TZOFFSETTO:+0200
TZNAME:CEST
DTSTART:20250330T010000
END:DAYLIGHT
BEGIN:STANDARD
TZOFFSETFROM:+0200
TZOFFSETTO:+0100
TZNAME:CET
DTSTART:20251026T010000
END:STANDARD
BEGIN:DAYLIGHT
TZOFFSETFROM:+0100
TZOFFSETTO:+0200
TZNAME:CEST
DTSTART:20260329T010000
END:DAYLIGHT
BEGIN:STANDARD
TZOFFSETFROM:+0200
TZOFFSETTO:+0100
TZNAME:CET
DTSTART:20261025T010000
END:STANDARD
BEGIN:DAYLIGHT
TZOFFSETFROM:+0100
TZOFFSETTO:+0200
TZNAME:CEST
DTSTART:20270328T010000
END:DAYLIGHT
BEGIN:STANDARD
TZOFFSETFROM:+0200
TZOFFSETTO:+0100
TZNAME:CET
DTSTART:20271031T010000
END:STANDARD
END:VTIMEZONE
BEGIN:VEVENT
DTSTART;VALUE=DATE:20260413
DTEND;VALUE=DATE:20260418
DTSTAMP:20260423T153804
CREATED:20251030T111810Z
LAST-MODIFIED:20251030T111810Z
UID:14789-1776038400-1776470399@whg-garching.de
SUMMARY:praktische Abiturprüfungen Sport
DESCRIPTION:
URL:https://whg-garching.de/event/praktische-abiturpruefungen-sport/
END:VEVENT
BEGIN:VEVENT
DTSTART;VALUE=DATE:20260415
DTEND;VALUE=DATE:20260416
DTSTAMP:20260423T153804
CREATED:20251030T111829Z
LAST-MODIFIED:20251030T111829Z
UID:14791-1776211200-1776297599@whg-garching.de
SUMMARY:PuG Termin TUM Kolleg Q12
DESCRIPTION:
URL:https://whg-garching.de/event/pug-termin-tum-kolleg-q12-4/
END:VEVENT
BEGIN:VEVENT
DTSTART;VALUE=DATE:20260415
DTEND;VALUE=DATE:20260416
DTSTAMP:20260423T153804
CREATED:20260326T051252Z
LAST-MODIFIED:20260326T051252Z
UID:15494-1776211200-1776297599@whg-garching.de
SUMMARY:Klassensprecherversammlung 6. Stunde
DESCRIPTION:
URL:https://whg-garching.de/event/klassensprecherversammlung-6-stunde/
END:VEVENT
END:VCALENDAR