BEGIN:VCALENDAR
VERSION:2.0
PRODID:-//Werner Heisenberg Gymnasium - ECPv6.15.15//NONSGML v1.0//EN
CALSCALE:GREGORIAN
METHOD:PUBLISH
X-ORIGINAL-URL:https://whg-garching.de
X-WR-CALDESC:Veranstaltungen für Werner Heisenberg Gymnasium
REFRESH-INTERVAL;VALUE=DURATION:PT1H
X-Robots-Tag:noindex
X-PUBLISHED-TTL:PT1H
BEGIN:VTIMEZONE
TZID:Europe/Berlin
BEGIN:DAYLIGHT
TZOFFSETFROM:+0100
TZOFFSETTO:+0200
TZNAME:CEST
DTSTART:20250330T010000
END:DAYLIGHT
BEGIN:STANDARD
TZOFFSETFROM:+0200
TZOFFSETTO:+0100
TZNAME:CET
DTSTART:20251026T010000
END:STANDARD
BEGIN:DAYLIGHT
TZOFFSETFROM:+0100
TZOFFSETTO:+0200
TZNAME:CEST
DTSTART:20260329T010000
END:DAYLIGHT
BEGIN:STANDARD
TZOFFSETFROM:+0200
TZOFFSETTO:+0100
TZNAME:CET
DTSTART:20261025T010000
END:STANDARD
BEGIN:DAYLIGHT
TZOFFSETFROM:+0100
TZOFFSETTO:+0200
TZNAME:CEST
DTSTART:20270328T010000
END:DAYLIGHT
BEGIN:STANDARD
TZOFFSETFROM:+0200
TZOFFSETTO:+0100
TZNAME:CET
DTSTART:20271031T010000
END:STANDARD
END:VTIMEZONE
BEGIN:VEVENT
DTSTART;VALUE=DATE:20260317
DTEND;VALUE=DATE:20260326
DTSTAMP:20260423T205937
CREATED:20251030T111205Z
LAST-MODIFIED:20251030T111205Z
UID:14763-1773705600-1774483199@whg-garching.de
SUMMARY:WHG in Bonneville
DESCRIPTION:
URL:https://whg-garching.de/event/whg-in-bonneville/
END:VEVENT
BEGIN:VEVENT
DTSTART;VALUE=DATE:20260322
DTEND;VALUE=DATE:20260328
DTSTAMP:20260423T205937
CREATED:20251030T111426Z
LAST-MODIFIED:20251030T111426Z
UID:14769-1774137600-1774655999@whg-garching.de
SUMMARY:WHG in England (9. Klassen)
DESCRIPTION:
URL:https://whg-garching.de/event/whg-in-england-9-klassen/
END:VEVENT
BEGIN:VEVENT
DTSTART;VALUE=DATE:20260323
DTEND;VALUE=DATE:20260328
DTSTAMP:20260423T205937
CREATED:20251030T111450Z
LAST-MODIFIED:20251030T111450Z
UID:14771-1774224000-1774655999@whg-garching.de
SUMMARY:Wissenschaftswoche 11. Klassen
DESCRIPTION:
URL:https://whg-garching.de/event/wissenschaftswoche-11-klassen-3/
END:VEVENT
BEGIN:VEVENT
DTSTART;VALUE=DATE:20260325
DTEND;VALUE=DATE:20260326
DTSTAMP:20260423T205937
CREATED:20251030T111532Z
LAST-MODIFIED:20251030T111532Z
UID:14775-1774396800-1774483199@whg-garching.de
SUMMARY:Abgabe Kursprogramm 11. Klassen für Oberstufe
DESCRIPTION:
URL:https://whg-garching.de/event/abgabe-kursprogramm-11-klassen-fuer-oberstufe/
END:VEVENT
BEGIN:VEVENT
DTSTART;VALUE=DATE:20260325
DTEND;VALUE=DATE:20260326
DTSTAMP:20260423T205937
CREATED:20251030T111557Z
LAST-MODIFIED:20251030T111557Z
UID:14777-1774396800-1774483199@whg-garching.de
SUMMARY:Schulmeisterschaften Hochsprung
DESCRIPTION:
URL:https://whg-garching.de/event/schulmeisterschaften-hochsprung-2/
END:VEVENT
END:VCALENDAR