BEGIN:VCALENDAR
VERSION:2.0
PRODID:-//Werner Heisenberg Gymnasium - ECPv6.15.15//NONSGML v1.0//EN
CALSCALE:GREGORIAN
METHOD:PUBLISH
X-WR-CALNAME:Werner Heisenberg Gymnasium
X-ORIGINAL-URL:https://whg-garching.de
X-WR-CALDESC:Veranstaltungen für Werner Heisenberg Gymnasium
REFRESH-INTERVAL;VALUE=DURATION:PT1H
X-Robots-Tag:noindex
X-PUBLISHED-TTL:PT1H
BEGIN:VTIMEZONE
TZID:Europe/Berlin
BEGIN:DAYLIGHT
TZOFFSETFROM:+0100
TZOFFSETTO:+0200
TZNAME:CEST
DTSTART:20250330T010000
END:DAYLIGHT
BEGIN:STANDARD
TZOFFSETFROM:+0200
TZOFFSETTO:+0100
TZNAME:CET
DTSTART:20251026T010000
END:STANDARD
BEGIN:DAYLIGHT
TZOFFSETFROM:+0100
TZOFFSETTO:+0200
TZNAME:CEST
DTSTART:20260329T010000
END:DAYLIGHT
BEGIN:STANDARD
TZOFFSETFROM:+0200
TZOFFSETTO:+0100
TZNAME:CET
DTSTART:20261025T010000
END:STANDARD
BEGIN:DAYLIGHT
TZOFFSETFROM:+0100
TZOFFSETTO:+0200
TZNAME:CEST
DTSTART:20270328T010000
END:DAYLIGHT
BEGIN:STANDARD
TZOFFSETFROM:+0200
TZOFFSETTO:+0100
TZNAME:CET
DTSTART:20271031T010000
END:STANDARD
END:VTIMEZONE
BEGIN:VEVENT
DTSTART;VALUE=DATE:20260306
DTEND;VALUE=DATE:20260307
DTSTAMP:20260423T170346
CREATED:20251030T110958Z
LAST-MODIFIED:20251030T110958Z
UID:14756-1772755200-1772841599@whg-garching.de
SUMMARY:letzter Termin Festlegung Kolloquiumsfächer
DESCRIPTION:
URL:https://whg-garching.de/event/letzter-termin-festlegung-kolloquiumsfaecher/
END:VEVENT
BEGIN:VEVENT
DTSTART;VALUE=DATE:20260306
DTEND;VALUE=DATE:20260307
DTSTAMP:20260423T170346
CREATED:20251117T080926Z
LAST-MODIFIED:20251117T080926Z
UID:14835-1772755200-1772841599@whg-garching.de
SUMMARY:Sportnacht SMV
DESCRIPTION:
URL:https://whg-garching.de/event/sportnacht-smv-3/
END:VEVENT
BEGIN:VEVENT
DTSTART;VALUE=DATE:20260306
DTEND;VALUE=DATE:20260307
DTSTAMP:20260423T170346
CREATED:20251117T080953Z
LAST-MODIFIED:20251117T080953Z
UID:14837-1772755200-1772841599@whg-garching.de
SUMMARY:Mottotag "Ich in 50 jahren" / SMV
DESCRIPTION:
URL:https://whg-garching.de/event/mottotag-ich-in-50-jahren-smv/
END:VEVENT
BEGIN:VEVENT
DTSTART;VALUE=DATE:20260306
DTEND;VALUE=DATE:20260307
DTSTAMP:20260423T170346
CREATED:20260205T155238Z
LAST-MODIFIED:20260205T155238Z
UID:15145-1772755200-1772841599@whg-garching.de
SUMMARY:Exkursion 7b IX-Quadrat
DESCRIPTION:
URL:https://whg-garching.de/event/exkursion-7b-ix-quadrat/
END:VEVENT
END:VCALENDAR