BEGIN:VCALENDAR
VERSION:2.0
PRODID:-//Werner Heisenberg Gymnasium - ECPv6.15.15//NONSGML v1.0//EN
CALSCALE:GREGORIAN
METHOD:PUBLISH
X-WR-CALNAME:Werner Heisenberg Gymnasium
X-ORIGINAL-URL:https://whg-garching.de
X-WR-CALDESC:Veranstaltungen für Werner Heisenberg Gymnasium
REFRESH-INTERVAL;VALUE=DURATION:PT1H
X-Robots-Tag:noindex
X-PUBLISHED-TTL:PT1H
BEGIN:VTIMEZONE
TZID:Europe/Berlin
BEGIN:DAYLIGHT
TZOFFSETFROM:+0100
TZOFFSETTO:+0200
TZNAME:CEST
DTSTART:20250330T010000
END:DAYLIGHT
BEGIN:STANDARD
TZOFFSETFROM:+0200
TZOFFSETTO:+0100
TZNAME:CET
DTSTART:20251026T010000
END:STANDARD
BEGIN:DAYLIGHT
TZOFFSETFROM:+0100
TZOFFSETTO:+0200
TZNAME:CEST
DTSTART:20260329T010000
END:DAYLIGHT
BEGIN:STANDARD
TZOFFSETFROM:+0200
TZOFFSETTO:+0100
TZNAME:CET
DTSTART:20261025T010000
END:STANDARD
BEGIN:DAYLIGHT
TZOFFSETFROM:+0100
TZOFFSETTO:+0200
TZNAME:CEST
DTSTART:20270328T010000
END:DAYLIGHT
BEGIN:STANDARD
TZOFFSETFROM:+0200
TZOFFSETTO:+0100
TZNAME:CET
DTSTART:20271031T010000
END:STANDARD
END:VTIMEZONE
BEGIN:VEVENT
DTSTART;VALUE=DATE:20260224
DTEND;VALUE=DATE:20260225
DTSTAMP:20260423T170518
CREATED:20251030T110718Z
LAST-MODIFIED:20251030T110718Z
UID:14744-1771891200-1771977599@whg-garching.de
SUMMARY:Informationsabend Sprachen- und Zweigwahl 5. Klasse 18 Uhr
DESCRIPTION:
URL:https://whg-garching.de/event/informationsabend-sprachen-und-zweigwahl-5-klasse-18-uhr/
END:VEVENT
BEGIN:VEVENT
DTSTART;VALUE=DATE:20260224
DTEND;VALUE=DATE:20260225
DTSTAMP:20260423T170518
CREATED:20251030T110758Z
LAST-MODIFIED:20251030T110758Z
UID:14746-1771891200-1771977599@whg-garching.de
SUMMARY:Informationsabend Sprachen- und Zweigwahl 7. Klasse 19:30 Uhr
DESCRIPTION:
URL:https://whg-garching.de/event/informationsabend-sprachen-und-zweigwahl-7-klasse-1930-uhr/
END:VEVENT
BEGIN:VEVENT
DTSTART;VALUE=DATE:20260224
DTEND;VALUE=DATE:20260225
DTSTAMP:20260423T170518
CREATED:20260205T154446Z
LAST-MODIFIED:20260205T154446Z
UID:15131-1771891200-1771977599@whg-garching.de
SUMMARY:ABO Q12 / Studienerkundungstag / kein Unterricht
DESCRIPTION:
URL:https://whg-garching.de/event/abo-q12-studienerkundungstag-kein-unterricht/
END:VEVENT
BEGIN:VEVENT
DTSTART;VALUE=DATE:20260224
DTEND;VALUE=DATE:20260225
DTSTAMP:20260423T170518
CREATED:20260205T154909Z
LAST-MODIFIED:20260205T154909Z
UID:15141-1771891200-1771977599@whg-garching.de
SUMMARY:Exkursion 7c IX-Quadrat
DESCRIPTION:
URL:https://whg-garching.de/event/exkursion-7c-ix-quadrat/
END:VEVENT
END:VCALENDAR