BEGIN:VCALENDAR
VERSION:2.0
PRODID:-//Werner Heisenberg Gymnasium - ECPv6.15.15//NONSGML v1.0//EN
CALSCALE:GREGORIAN
METHOD:PUBLISH
X-ORIGINAL-URL:https://whg-garching.de
X-WR-CALDESC:Veranstaltungen für Werner Heisenberg Gymnasium
REFRESH-INTERVAL;VALUE=DURATION:PT1H
X-Robots-Tag:noindex
X-PUBLISHED-TTL:PT1H
BEGIN:VTIMEZONE
TZID:Europe/Berlin
BEGIN:DAYLIGHT
TZOFFSETFROM:+0100
TZOFFSETTO:+0200
TZNAME:CEST
DTSTART:20250330T010000
END:DAYLIGHT
BEGIN:STANDARD
TZOFFSETFROM:+0200
TZOFFSETTO:+0100
TZNAME:CET
DTSTART:20251026T010000
END:STANDARD
BEGIN:DAYLIGHT
TZOFFSETFROM:+0100
TZOFFSETTO:+0200
TZNAME:CEST
DTSTART:20260329T010000
END:DAYLIGHT
BEGIN:STANDARD
TZOFFSETFROM:+0200
TZOFFSETTO:+0100
TZNAME:CET
DTSTART:20261025T010000
END:STANDARD
BEGIN:DAYLIGHT
TZOFFSETFROM:+0100
TZOFFSETTO:+0200
TZNAME:CEST
DTSTART:20270328T010000
END:DAYLIGHT
BEGIN:STANDARD
TZOFFSETFROM:+0200
TZOFFSETTO:+0100
TZNAME:CET
DTSTART:20271031T010000
END:STANDARD
END:VTIMEZONE
BEGIN:VEVENT
DTSTART;VALUE=DATE:20260211
DTEND;VALUE=DATE:20260214
DTSTAMP:20260423T183930
CREATED:20260205T154713Z
LAST-MODIFIED:20260205T154713Z
UID:15137-1770768000-1771027199@whg-garching.de
SUMMARY:Faschingstage SMV
DESCRIPTION:
URL:https://whg-garching.de/event/faschingstage-smv/
END:VEVENT
BEGIN:VEVENT
DTSTART;VALUE=DATE:20260213
DTEND;VALUE=DATE:20260214
DTSTAMP:20260423T183930
CREATED:20251030T110451Z
LAST-MODIFIED:20251030T110451Z
UID:14732-1770940800-1771027199@whg-garching.de
SUMMARY:Zeugnisse 12/1\, Jahrgangsstufenversammlung Q12 / Wahl für Q13
DESCRIPTION:
URL:https://whg-garching.de/event/zeugnisse-12-1-jahrgangsstufenversammlung-q12-wahl-fuer-q13/
END:VEVENT
BEGIN:VEVENT
DTSTART;VALUE=DATE:20260213
DTEND;VALUE=DATE:20260214
DTSTAMP:20260423T183930
CREATED:20251030T110508Z
LAST-MODIFIED:20251030T110508Z
UID:14734-1770940800-1771027199@whg-garching.de
SUMMARY:Ende des ersten Halbjahres
DESCRIPTION:
URL:https://whg-garching.de/event/ende-des-ersten-halbjahres/
END:VEVENT
BEGIN:VEVENT
DTSTART;VALUE=DATE:20260213
DTEND;VALUE=DATE:20260214
DTSTAMP:20260423T183930
CREATED:20251030T110529Z
LAST-MODIFIED:20251030T110529Z
UID:14736-1770940800-1771027199@whg-garching.de
SUMMARY:Unterrichtsende 13:00 für 5-11; Oberstufe auf Absprache mit den Kursleitern
DESCRIPTION:
URL:https://whg-garching.de/event/unterrichtsende-1300-fuer-5-11-oberstufe-auf-absprache-mit-den-kursleitern-5/
END:VEVENT
BEGIN:VEVENT
DTSTART;VALUE=DATE:20260213
DTEND;VALUE=DATE:20260214
DTSTAMP:20260423T183930
CREATED:20251030T110553Z
LAST-MODIFIED:20251030T110553Z
UID:14738-1770940800-1771027199@whg-garching.de
SUMMARY:Vergabe der Seminararbeitsthemen Q12
DESCRIPTION:
URL:https://whg-garching.de/event/vergabe-der-seminararbeitsthemen-q12/
END:VEVENT
BEGIN:VEVENT
DTSTART;VALUE=DATE:20260213
DTEND;VALUE=DATE:20260214
DTSTAMP:20260423T183930
CREATED:20251126T072227Z
LAST-MODIFIED:20251126T072227Z
UID:14897-1770940800-1771027199@whg-garching.de
SUMMARY:Akademie-Tag (ca. 60 SuS)
DESCRIPTION:
URL:https://whg-garching.de/event/akademie-tag-ca-60-sus/
END:VEVENT
END:VCALENDAR