BEGIN:VCALENDAR
VERSION:2.0
PRODID:-//Werner Heisenberg Gymnasium - ECPv6.15.15//NONSGML v1.0//EN
CALSCALE:GREGORIAN
METHOD:PUBLISH
X-ORIGINAL-URL:https://whg-garching.de
X-WR-CALDESC:Veranstaltungen für Werner Heisenberg Gymnasium
REFRESH-INTERVAL;VALUE=DURATION:PT1H
X-Robots-Tag:noindex
X-PUBLISHED-TTL:PT1H
BEGIN:VTIMEZONE
TZID:Europe/Berlin
BEGIN:DAYLIGHT
TZOFFSETFROM:+0100
TZOFFSETTO:+0200
TZNAME:CEST
DTSTART:20240331T010000
END:DAYLIGHT
BEGIN:STANDARD
TZOFFSETFROM:+0200
TZOFFSETTO:+0100
TZNAME:CET
DTSTART:20241027T010000
END:STANDARD
BEGIN:DAYLIGHT
TZOFFSETFROM:+0100
TZOFFSETTO:+0200
TZNAME:CEST
DTSTART:20250330T010000
END:DAYLIGHT
BEGIN:STANDARD
TZOFFSETFROM:+0200
TZOFFSETTO:+0100
TZNAME:CET
DTSTART:20251026T010000
END:STANDARD
BEGIN:DAYLIGHT
TZOFFSETFROM:+0100
TZOFFSETTO:+0200
TZNAME:CEST
DTSTART:20260329T010000
END:DAYLIGHT
BEGIN:STANDARD
TZOFFSETFROM:+0200
TZOFFSETTO:+0100
TZNAME:CET
DTSTART:20261025T010000
END:STANDARD
END:VTIMEZONE
BEGIN:VEVENT
DTSTART;VALUE=DATE:20251218
DTEND;VALUE=DATE:20251219
DTSTAMP:20260423T220358
CREATED:20250908T142353Z
LAST-MODIFIED:20250908T142353Z
UID:14305-1766016000-1766102399@whg-garching.de
SUMMARY:Abbau Weihnachtskonzert
DESCRIPTION:
URL:https://whg-garching.de/event/abbau-weihnachtskonzert-3/
END:VEVENT
BEGIN:VEVENT
DTSTART;VALUE=DATE:20251218
DTEND;VALUE=DATE:20251219
DTSTAMP:20260423T220358
CREATED:20250908T142416Z
LAST-MODIFIED:20250908T142416Z
UID:14307-1766016000-1766102399@whg-garching.de
SUMMARY:1. Stunde Jahrgangsstufenversammlung 9
DESCRIPTION:
URL:https://whg-garching.de/event/1-stunde-jahrgangsstufenversammlung-9/
END:VEVENT
BEGIN:VEVENT
DTSTART;VALUE=DATE:20251218
DTEND;VALUE=DATE:20251219
DTSTAMP:20260423T220358
CREATED:20250908T142450Z
LAST-MODIFIED:20250908T142450Z
UID:14310-1766016000-1766102399@whg-garching.de
SUMMARY:3. Stunde Jahrgangsstufenversammlung 7
DESCRIPTION:
URL:https://whg-garching.de/event/3-stunde-jahrgangsstufenversammlung-7/
END:VEVENT
BEGIN:VEVENT
DTSTART;VALUE=DATE:20251218
DTEND;VALUE=DATE:20251219
DTSTAMP:20260423T220358
CREATED:20250908T142510Z
LAST-MODIFIED:20250908T142510Z
UID:14312-1766016000-1766102399@whg-garching.de
SUMMARY:5. Stunde Jahrgangsstufenversammlung 5
DESCRIPTION:
URL:https://whg-garching.de/event/5-stunde-jahrgangsstufenversammlung-5/
END:VEVENT
BEGIN:VEVENT
DTSTART;VALUE=DATE:20251218
DTEND;VALUE=DATE:20251219
DTSTAMP:20260423T220358
CREATED:20250908T142532Z
LAST-MODIFIED:20250908T142532Z
UID:14314-1766016000-1766102399@whg-garching.de
SUMMARY:6. Stunde Jahrgangsstufenversammlung Q12
DESCRIPTION:
URL:https://whg-garching.de/event/6-stunde-jahrgangsstufenversammlung-q12/
END:VEVENT
BEGIN:VEVENT
DTSTART;VALUE=DATE:20251218
DTEND;VALUE=DATE:20251219
DTSTAMP:20260423T220358
CREATED:20251126T072037Z
LAST-MODIFIED:20251126T072037Z
UID:14886-1766016000-1766102399@whg-garching.de
SUMMARY:Schulschachmeisterschaften ab 08:00 Uhr
DESCRIPTION:
URL:https://whg-garching.de/event/schulschachmeisterschaften-ab-0800-uhr/
END:VEVENT
BEGIN:VEVENT
DTSTART;VALUE=DATE:20251218
DTEND;VALUE=DATE:20251219
DTSTAMP:20260423T220358
CREATED:20251126T072052Z
LAST-MODIFIED:20251126T072052Z
UID:14888-1766016000-1766102399@whg-garching.de
SUMMARY:Weihnachtsfeier Kollegium 17:30 Uhr
DESCRIPTION:
URL:https://whg-garching.de/event/weihnachtsfeier-kollegium-1730-uhr/
END:VEVENT
BEGIN:VEVENT
DTSTART;VALUE=DATE:20251218
DTEND;VALUE=DATE:20251219
DTSTAMP:20260423T220358
CREATED:20251126T072109Z
LAST-MODIFIED:20251126T072109Z
UID:14890-1766016000-1766102399@whg-garching.de
SUMMARY:Projekt 7e / 3.-4. Std (Klarsichtkoffer)
DESCRIPTION:
URL:https://whg-garching.de/event/projekt-7e-3-4-std-klarsichtkoffer/
END:VEVENT
BEGIN:VEVENT
DTSTART;VALUE=DATE:20251218
DTEND;VALUE=DATE:20251219
DTSTAMP:20260423T220358
CREATED:20251126T072121Z
LAST-MODIFIED:20251126T072121Z
UID:14892-1766016000-1766102399@whg-garching.de
SUMMARY:Projekt 7a / 5.-6. Std (Klarsichtkoffer)
DESCRIPTION:
URL:https://whg-garching.de/event/projekt-7a-5-6-std-klarsichtkoffer/
END:VEVENT
END:VCALENDAR