BEGIN:VCALENDAR
VERSION:2.0
PRODID:-//Werner Heisenberg Gymnasium - ECPv6.15.15//NONSGML v1.0//EN
CALSCALE:GREGORIAN
METHOD:PUBLISH
X-ORIGINAL-URL:https://whg-garching.de
X-WR-CALDESC:Veranstaltungen für Werner Heisenberg Gymnasium
REFRESH-INTERVAL;VALUE=DURATION:PT1H
X-Robots-Tag:noindex
X-PUBLISHED-TTL:PT1H
BEGIN:VTIMEZONE
TZID:Europe/Berlin
BEGIN:DAYLIGHT
TZOFFSETFROM:+0100
TZOFFSETTO:+0200
TZNAME:CEST
DTSTART:20240331T010000
END:DAYLIGHT
BEGIN:STANDARD
TZOFFSETFROM:+0200
TZOFFSETTO:+0100
TZNAME:CET
DTSTART:20241027T010000
END:STANDARD
BEGIN:DAYLIGHT
TZOFFSETFROM:+0100
TZOFFSETTO:+0200
TZNAME:CEST
DTSTART:20250330T010000
END:DAYLIGHT
BEGIN:STANDARD
TZOFFSETFROM:+0200
TZOFFSETTO:+0100
TZNAME:CET
DTSTART:20251026T010000
END:STANDARD
BEGIN:DAYLIGHT
TZOFFSETFROM:+0100
TZOFFSETTO:+0200
TZNAME:CEST
DTSTART:20260329T010000
END:DAYLIGHT
BEGIN:STANDARD
TZOFFSETFROM:+0200
TZOFFSETTO:+0100
TZNAME:CET
DTSTART:20261025T010000
END:STANDARD
END:VTIMEZONE
BEGIN:VEVENT
DTSTART;VALUE=DATE:20251215
DTEND;VALUE=DATE:20251218
DTSTAMP:20260423T220400
CREATED:20250908T142113Z
LAST-MODIFIED:20250908T142113Z
UID:14290-1765756800-1766015999@whg-garching.de
SUMMARY:Probentage für Weihnachtskonzert
DESCRIPTION:
URL:https://whg-garching.de/event/probentage-fuer-weihnachtskonzert/
END:VEVENT
BEGIN:VEVENT
DTSTART;VALUE=DATE:20251217
DTEND;VALUE=DATE:20251218
DTSTAMP:20260423T220400
CREATED:20250908T142136Z
LAST-MODIFIED:20250908T142136Z
UID:14293-1765929600-1766015999@whg-garching.de
SUMMARY:Generalprobe und Weihnachtskonzert im Bürgerhaus
DESCRIPTION:
URL:https://whg-garching.de/event/generalprobe-und-weihnachtskonzert-im-buergerhaus-3/
END:VEVENT
BEGIN:VEVENT
DTSTART;VALUE=DATE:20251217
DTEND;VALUE=DATE:20251218
DTSTAMP:20260423T220400
CREATED:20250908T142210Z
LAST-MODIFIED:20250908T142210Z
UID:14295-1765929600-1766015999@whg-garching.de
SUMMARY:1. Stunde Jahrgangsstufenversammlung 6
DESCRIPTION:
URL:https://whg-garching.de/event/1-stunde-jahrgangsstufenversammlung-6/
END:VEVENT
BEGIN:VEVENT
DTSTART;VALUE=DATE:20251217
DTEND;VALUE=DATE:20251218
DTSTAMP:20260423T220400
CREATED:20250908T142234Z
LAST-MODIFIED:20250908T142234Z
UID:14298-1765929600-1766015999@whg-garching.de
SUMMARY:3. Stunde Jahrgangsstufenversammlung 8
DESCRIPTION:
URL:https://whg-garching.de/event/3-stunde-jahrgangsstufenversammlung-8/
END:VEVENT
BEGIN:VEVENT
DTSTART;VALUE=DATE:20251217
DTEND;VALUE=DATE:20251218
DTSTAMP:20260423T220400
CREATED:20250908T142302Z
LAST-MODIFIED:20250908T142302Z
UID:14301-1765929600-1766015999@whg-garching.de
SUMMARY:5. Stunde Jahrgangsstufenversammlung 11
DESCRIPTION:
URL:https://whg-garching.de/event/5-stunde-jahrgangsstufenversammlung-11/
END:VEVENT
BEGIN:VEVENT
DTSTART;VALUE=DATE:20251217
DTEND;VALUE=DATE:20251218
DTSTAMP:20260423T220400
CREATED:20250908T142327Z
LAST-MODIFIED:20250908T142327Z
UID:14303-1765929600-1766015999@whg-garching.de
SUMMARY:6. Stunde Jahrgangsstufenversammlung 10
DESCRIPTION:
URL:https://whg-garching.de/event/6-stunde-jahrgangsstufenversammlung-10/
END:VEVENT
BEGIN:VEVENT
DTSTART;VALUE=DATE:20251217
DTEND;VALUE=DATE:20251218
DTSTAMP:20260423T220400
CREATED:20251126T072020Z
LAST-MODIFIED:20251126T072020Z
UID:14884-1765929600-1766015999@whg-garching.de
SUMMARY:Projekt 7d / 1.-2. Std (Klarsichtkoffer)
DESCRIPTION:
URL:https://whg-garching.de/event/projekt-7d-1-2-std-klarsichtkoffer/
END:VEVENT
END:VCALENDAR