BEGIN:VCALENDAR
VERSION:2.0
PRODID:-//Werner Heisenberg Gymnasium - ECPv6.15.15//NONSGML v1.0//EN
CALSCALE:GREGORIAN
METHOD:PUBLISH
X-WR-CALNAME:Werner Heisenberg Gymnasium
X-ORIGINAL-URL:https://whg-garching.de
X-WR-CALDESC:Veranstaltungen für Werner Heisenberg Gymnasium
REFRESH-INTERVAL;VALUE=DURATION:PT1H
X-Robots-Tag:noindex
X-PUBLISHED-TTL:PT1H
BEGIN:VTIMEZONE
TZID:Europe/Berlin
BEGIN:DAYLIGHT
TZOFFSETFROM:+0100
TZOFFSETTO:+0200
TZNAME:CEST
DTSTART:20240331T010000
END:DAYLIGHT
BEGIN:STANDARD
TZOFFSETFROM:+0200
TZOFFSETTO:+0100
TZNAME:CET
DTSTART:20241027T010000
END:STANDARD
BEGIN:DAYLIGHT
TZOFFSETFROM:+0100
TZOFFSETTO:+0200
TZNAME:CEST
DTSTART:20250330T010000
END:DAYLIGHT
BEGIN:STANDARD
TZOFFSETFROM:+0200
TZOFFSETTO:+0100
TZNAME:CET
DTSTART:20251026T010000
END:STANDARD
BEGIN:DAYLIGHT
TZOFFSETFROM:+0100
TZOFFSETTO:+0200
TZNAME:CEST
DTSTART:20260329T010000
END:DAYLIGHT
BEGIN:STANDARD
TZOFFSETFROM:+0200
TZOFFSETTO:+0100
TZNAME:CET
DTSTART:20261025T010000
END:STANDARD
END:VTIMEZONE
BEGIN:VEVENT
DTSTART;VALUE=DATE:20251203
DTEND;VALUE=DATE:20251213
DTSTAMP:20260423T215952
CREATED:20250908T141656Z
LAST-MODIFIED:20250908T141656Z
UID:14275-1764720000-1765583999@whg-garching.de
SUMMARY:Bonneville am WHG
DESCRIPTION:
URL:https://whg-garching.de/event/bonneville-am-whg-2/
END:VEVENT
BEGIN:VEVENT
DTSTART;VALUE=DATE:20251208
DTEND;VALUE=DATE:20251213
DTSTAMP:20260423T215952
CREATED:20250908T141803Z
LAST-MODIFIED:20250908T141803Z
UID:14279-1765152000-1765583999@whg-garching.de
SUMMARY:Engländer am WHG
DESCRIPTION:
URL:https://whg-garching.de/event/englaender-am-whg/
END:VEVENT
BEGIN:VEVENT
DTSTART;VALUE=DATE:20251211
DTEND;VALUE=DATE:20251212
DTSTAMP:20260423T215952
CREATED:20250908T141950Z
LAST-MODIFIED:20250908T141950Z
UID:14286-1765411200-1765497599@whg-garching.de
SUMMARY:Schulbesuchstag MB Ost
DESCRIPTION:
URL:https://whg-garching.de/event/schulbesuchstag-mb-ost/
END:VEVENT
BEGIN:VEVENT
DTSTART;VALUE=DATE:20251211
DTEND;VALUE=DATE:20251212
DTSTAMP:20260423T215952
CREATED:20251126T071857Z
LAST-MODIFIED:20251126T071857Z
UID:14876-1765411200-1765497599@whg-garching.de
SUMMARY:Wissenschaft zu Gast 18 Uhr
DESCRIPTION:
URL:https://whg-garching.de/event/wissenschaft-zu-gast-18-uhr/
END:VEVENT
BEGIN:VEVENT
DTSTART;VALUE=DATE:20251211
DTEND;VALUE=DATE:20251213
DTSTAMP:20260423T215952
CREATED:20250908T142032Z
LAST-MODIFIED:20250908T142032Z
UID:14288-1765411200-1765583999@whg-garching.de
SUMMARY:MBO 9
DESCRIPTION:
URL:https://whg-garching.de/event/mbo-9/
END:VEVENT
END:VCALENDAR