BEGIN:VCALENDAR
VERSION:2.0
PRODID:-//Werner Heisenberg Gymnasium - ECPv6.15.15//NONSGML v1.0//EN
CALSCALE:GREGORIAN
METHOD:PUBLISH
X-WR-CALNAME:Werner Heisenberg Gymnasium
X-ORIGINAL-URL:https://whg-garching.de
X-WR-CALDESC:Veranstaltungen für Werner Heisenberg Gymnasium
REFRESH-INTERVAL;VALUE=DURATION:PT1H
X-Robots-Tag:noindex
X-PUBLISHED-TTL:PT1H
BEGIN:VTIMEZONE
TZID:Europe/Berlin
BEGIN:DAYLIGHT
TZOFFSETFROM:+0100
TZOFFSETTO:+0200
TZNAME:CEST
DTSTART:20240331T010000
END:DAYLIGHT
BEGIN:STANDARD
TZOFFSETFROM:+0200
TZOFFSETTO:+0100
TZNAME:CET
DTSTART:20241027T010000
END:STANDARD
BEGIN:DAYLIGHT
TZOFFSETFROM:+0100
TZOFFSETTO:+0200
TZNAME:CEST
DTSTART:20250330T010000
END:DAYLIGHT
BEGIN:STANDARD
TZOFFSETFROM:+0200
TZOFFSETTO:+0100
TZNAME:CET
DTSTART:20251026T010000
END:STANDARD
BEGIN:DAYLIGHT
TZOFFSETFROM:+0100
TZOFFSETTO:+0200
TZNAME:CEST
DTSTART:20260329T010000
END:DAYLIGHT
BEGIN:STANDARD
TZOFFSETFROM:+0200
TZOFFSETTO:+0100
TZNAME:CET
DTSTART:20261025T010000
END:STANDARD
END:VTIMEZONE
BEGIN:VEVENT
DTSTART;VALUE=DATE:20251027
DTEND;VALUE=DATE:20251030
DTSTAMP:20260423T233723
CREATED:20250909T122227Z
LAST-MODIFIED:20250909T122227Z
UID:14333-1761523200-1761782399@whg-garching.de
SUMMARY:Schullandheim 5d
DESCRIPTION:
URL:https://whg-garching.de/event/schullandheim-5d-3/
END:VEVENT
BEGIN:VEVENT
DTSTART;VALUE=DATE:20251029
DTEND;VALUE=DATE:20251030
DTSTAMP:20260423T233723
CREATED:20250908T140456Z
LAST-MODIFIED:20250908T140456Z
UID:14249-1761696000-1761782399@whg-garching.de
SUMMARY:Jahrgangsstufenversammlung 9. Klassen / 1. Std
DESCRIPTION:
URL:https://whg-garching.de/event/jahrgangsstufenversammlung-9-klassen-1-std/
END:VEVENT
BEGIN:VEVENT
DTSTART;VALUE=DATE:20251029
DTEND;VALUE=DATE:20251030
DTSTAMP:20260423T233723
CREATED:20250908T140521Z
LAST-MODIFIED:20250908T140521Z
UID:14251-1761696000-1761782399@whg-garching.de
SUMMARY:Jahrgangsstufenversammlung 6. Klassen / 3. Std
DESCRIPTION:
URL:https://whg-garching.de/event/jahrgangsstufenversammlung-6-klassen-3-std/
END:VEVENT
BEGIN:VEVENT
DTSTART;VALUE=DATE:20251029
DTEND;VALUE=DATE:20251030
DTSTAMP:20260423T233723
CREATED:20250917T152402Z
LAST-MODIFIED:20250917T152402Z
UID:14441-1761696000-1761782399@whg-garching.de
SUMMARY:6b 1.-2. Std. Ausgabe Ipads
DESCRIPTION:
URL:https://whg-garching.de/event/6b-1-2-std-ausgabe-ipads/
END:VEVENT
BEGIN:VEVENT
DTSTART;VALUE=DATE:20251029
DTEND;VALUE=DATE:20251030
DTSTAMP:20260423T233723
CREATED:20251014T051516Z
LAST-MODIFIED:20251014T051516Z
UID:14589-1761696000-1761782399@whg-garching.de
SUMMARY:8e 3.-4. Std. Suchtprävention\, 8d 5.-6. Std. Suchtprävention
DESCRIPTION:
URL:https://whg-garching.de/event/8e-3-4-std-suchtpraevention-8d-5-6-std-suchtpraevention/
END:VEVENT
BEGIN:VEVENT
DTSTART;VALUE=DATE:20251029
DTEND;VALUE=DATE:20251030
DTSTAMP:20260423T233723
CREATED:20251016T125653Z
LAST-MODIFIED:20251016T125653Z
UID:14610-1761696000-1761782399@whg-garching.de
SUMMARY:Schulmeisterschaften im Crosslauf
DESCRIPTION:
URL:https://whg-garching.de/event/schulmeisterschaften-im-crosslauf/
END:VEVENT
BEGIN:VEVENT
DTSTART;VALUE=DATE:20251029
DTEND;VALUE=DATE:20251031
DTSTAMP:20260423T233723
CREATED:20250908T140431Z
LAST-MODIFIED:20250908T140431Z
UID:14247-1761696000-1761868799@whg-garching.de
SUMMARY:Tage der Orientierung 9d
DESCRIPTION:
URL:https://whg-garching.de/event/tage-der-orientierung-9d/
END:VEVENT
BEGIN:VEVENT
DTSTART;VALUE=DATE:20251029
DTEND;VALUE=DATE:20251101
DTSTAMP:20260423T233723
CREATED:20250909T122256Z
LAST-MODIFIED:20250909T122256Z
UID:14336-1761696000-1761955199@whg-garching.de
SUMMARY:Schullandheim 5e
DESCRIPTION:
URL:https://whg-garching.de/event/schullandheim-5e-2/
END:VEVENT
END:VCALENDAR