BEGIN:VCALENDAR
VERSION:2.0
PRODID:-//Werner Heisenberg Gymnasium - ECPv6.15.15//NONSGML v1.0//EN
CALSCALE:GREGORIAN
METHOD:PUBLISH
X-WR-CALNAME:Werner Heisenberg Gymnasium
X-ORIGINAL-URL:https://whg-garching.de
X-WR-CALDESC:Veranstaltungen für Werner Heisenberg Gymnasium
REFRESH-INTERVAL;VALUE=DURATION:PT1H
X-Robots-Tag:noindex
X-PUBLISHED-TTL:PT1H
BEGIN:VTIMEZONE
TZID:Europe/Berlin
BEGIN:DAYLIGHT
TZOFFSETFROM:+0100
TZOFFSETTO:+0200
TZNAME:CEST
DTSTART:20240331T010000
END:DAYLIGHT
BEGIN:STANDARD
TZOFFSETFROM:+0200
TZOFFSETTO:+0100
TZNAME:CET
DTSTART:20241027T010000
END:STANDARD
BEGIN:DAYLIGHT
TZOFFSETFROM:+0100
TZOFFSETTO:+0200
TZNAME:CEST
DTSTART:20250330T010000
END:DAYLIGHT
BEGIN:STANDARD
TZOFFSETFROM:+0200
TZOFFSETTO:+0100
TZNAME:CET
DTSTART:20251026T010000
END:STANDARD
BEGIN:DAYLIGHT
TZOFFSETFROM:+0100
TZOFFSETTO:+0200
TZNAME:CEST
DTSTART:20260329T010000
END:DAYLIGHT
BEGIN:STANDARD
TZOFFSETFROM:+0200
TZOFFSETTO:+0100
TZNAME:CET
DTSTART:20261025T010000
END:STANDARD
END:VTIMEZONE
BEGIN:VEVENT
DTSTART;VALUE=DATE:20251022
DTEND;VALUE=DATE:20251025
DTSTAMP:20260424T010723
CREATED:20250909T122157Z
LAST-MODIFIED:20250909T122157Z
UID:14331-1761091200-1761350399@whg-garching.de
SUMMARY:Schullandheim 5c
DESCRIPTION:
URL:https://whg-garching.de/event/schullandheim-5c-3/
END:VEVENT
BEGIN:VEVENT
DTSTART;VALUE=DATE:20251023
DTEND;VALUE=DATE:20251024
DTSTAMP:20260424T010723
CREATED:20250908T140312Z
LAST-MODIFIED:20250908T140312Z
UID:14241-1761177600-1761263999@whg-garching.de
SUMMARY:Jahrgangsstufenversammlung 10 in 5.-6. Stunde / Infos Oberstufe
DESCRIPTION:
URL:https://whg-garching.de/event/jahrgangsstufenversammlung-10-in-5-6-stunde-infos-oberstufe/
END:VEVENT
BEGIN:VEVENT
DTSTART;VALUE=DATE:20251023
DTEND;VALUE=DATE:20251024
DTSTAMP:20260424T010723
CREATED:20250917T152125Z
LAST-MODIFIED:20250917T152125Z
UID:14428-1761177600-1761263999@whg-garching.de
SUMMARY:8e 1.-4. Std. Ausgabe Ipads
DESCRIPTION:
URL:https://whg-garching.de/event/8e-1-4-std-ausgabe-ipads/
END:VEVENT
BEGIN:VEVENT
DTSTART;VALUE=DATE:20251023
DTEND;VALUE=DATE:20251024
DTSTAMP:20260424T010723
CREATED:20250917T152153Z
LAST-MODIFIED:20250917T152153Z
UID:14431-1761177600-1761263999@whg-garching.de
SUMMARY:8c 3.-6. Std. Ausgabe Ipads
DESCRIPTION:
URL:https://whg-garching.de/event/8c-3-6-std-ausgabe-ipads/
END:VEVENT
END:VCALENDAR