BEGIN:VCALENDAR
VERSION:2.0
PRODID:-//Werner Heisenberg Gymnasium - ECPv6.15.15//NONSGML v1.0//EN
CALSCALE:GREGORIAN
METHOD:PUBLISH
X-WR-CALNAME:Werner Heisenberg Gymnasium
X-ORIGINAL-URL:https://whg-garching.de
X-WR-CALDESC:Veranstaltungen für Werner Heisenberg Gymnasium
REFRESH-INTERVAL;VALUE=DURATION:PT1H
X-Robots-Tag:noindex
X-PUBLISHED-TTL:PT1H
BEGIN:VTIMEZONE
TZID:Europe/Berlin
BEGIN:DAYLIGHT
TZOFFSETFROM:+0100
TZOFFSETTO:+0200
TZNAME:CEST
DTSTART:20240331T010000
END:DAYLIGHT
BEGIN:STANDARD
TZOFFSETFROM:+0200
TZOFFSETTO:+0100
TZNAME:CET
DTSTART:20241027T010000
END:STANDARD
BEGIN:DAYLIGHT
TZOFFSETFROM:+0100
TZOFFSETTO:+0200
TZNAME:CEST
DTSTART:20250330T010000
END:DAYLIGHT
BEGIN:STANDARD
TZOFFSETFROM:+0200
TZOFFSETTO:+0100
TZNAME:CET
DTSTART:20251026T010000
END:STANDARD
BEGIN:DAYLIGHT
TZOFFSETFROM:+0100
TZOFFSETTO:+0200
TZNAME:CEST
DTSTART:20260329T010000
END:DAYLIGHT
BEGIN:STANDARD
TZOFFSETFROM:+0200
TZOFFSETTO:+0100
TZNAME:CET
DTSTART:20261025T010000
END:STANDARD
END:VTIMEZONE
BEGIN:VEVENT
DTSTART;VALUE=DATE:20251020
DTEND;VALUE=DATE:20251021
DTSTAMP:20260424T010748
CREATED:20250917T151941Z
LAST-MODIFIED:20250917T151941Z
UID:14420-1760918400-1761004799@whg-garching.de
SUMMARY:8b 1.-4. Std. Ausgabe Ipads
DESCRIPTION:
URL:https://whg-garching.de/event/8b-1-4-std-ausgabe-ipads/
END:VEVENT
BEGIN:VEVENT
DTSTART;VALUE=DATE:20251020
DTEND;VALUE=DATE:20251021
DTSTAMP:20260424T010748
CREATED:20250917T152014Z
LAST-MODIFIED:20250917T152014Z
UID:14423-1760918400-1761004799@whg-garching.de
SUMMARY:8a 3.-6. Std. Ausgabe Ipads
DESCRIPTION:
URL:https://whg-garching.de/event/8a-3-6-std-ausgabe-ipads/
END:VEVENT
BEGIN:VEVENT
DTSTART;VALUE=DATE:20251020
DTEND;VALUE=DATE:20251023
DTSTAMP:20260424T010748
CREATED:20250909T122129Z
LAST-MODIFIED:20250909T122129Z
UID:14329-1760918400-1761177599@whg-garching.de
SUMMARY:Schullandheim 5b
DESCRIPTION:
URL:https://whg-garching.de/event/schullandheim-5b-3/
END:VEVENT
END:VCALENDAR