BEGIN:VCALENDAR
VERSION:2.0
PRODID:-//Werner Heisenberg Gymnasium - ECPv6.15.15//NONSGML v1.0//EN
CALSCALE:GREGORIAN
METHOD:PUBLISH
X-WR-CALNAME:Werner Heisenberg Gymnasium
X-ORIGINAL-URL:https://whg-garching.de
X-WR-CALDESC:Veranstaltungen für Werner Heisenberg Gymnasium
REFRESH-INTERVAL;VALUE=DURATION:PT1H
X-Robots-Tag:noindex
X-PUBLISHED-TTL:PT1H
BEGIN:VTIMEZONE
TZID:Europe/Berlin
BEGIN:DAYLIGHT
TZOFFSETFROM:+0100
TZOFFSETTO:+0200
TZNAME:CEST
DTSTART:20240331T010000
END:DAYLIGHT
BEGIN:STANDARD
TZOFFSETFROM:+0200
TZOFFSETTO:+0100
TZNAME:CET
DTSTART:20241027T010000
END:STANDARD
BEGIN:DAYLIGHT
TZOFFSETFROM:+0100
TZOFFSETTO:+0200
TZNAME:CEST
DTSTART:20250330T010000
END:DAYLIGHT
BEGIN:STANDARD
TZOFFSETFROM:+0200
TZOFFSETTO:+0100
TZNAME:CET
DTSTART:20251026T010000
END:STANDARD
BEGIN:DAYLIGHT
TZOFFSETFROM:+0100
TZOFFSETTO:+0200
TZNAME:CEST
DTSTART:20260329T010000
END:DAYLIGHT
BEGIN:STANDARD
TZOFFSETFROM:+0200
TZOFFSETTO:+0100
TZNAME:CET
DTSTART:20261025T010000
END:STANDARD
END:VTIMEZONE
BEGIN:VEVENT
DTSTART;VALUE=DATE:20251006
DTEND;VALUE=DATE:20251011
DTSTAMP:20260424T011744
CREATED:20250908T135427Z
LAST-MODIFIED:20250908T135427Z
UID:14213-1759708800-1760140799@whg-garching.de
SUMMARY:Basisschulung Jugend debattiert
DESCRIPTION:
URL:https://whg-garching.de/event/basisschulung-jugend-debattiert-2/
END:VEVENT
BEGIN:VEVENT
DTSTART;VALUE=DATE:20251007
DTEND;VALUE=DATE:20251008
DTSTAMP:20260424T011744
CREATED:20250908T135531Z
LAST-MODIFIED:20250908T135531Z
UID:14218-1759795200-1759881599@whg-garching.de
SUMMARY:Wertedialog 8. Klassen JSA
DESCRIPTION:
URL:https://whg-garching.de/event/wertedialog-8-klassen-jsa/
END:VEVENT
BEGIN:VEVENT
DTSTART;VALUE=DATE:20251007
DTEND;VALUE=DATE:20251008
DTSTAMP:20260424T011744
CREATED:20250924T162820Z
LAST-MODIFIED:20250924T162820Z
UID:14472-1759795200-1759881599@whg-garching.de
SUMMARY:5c Projekt / JSA 5.-6. Stunde
DESCRIPTION:
URL:https://whg-garching.de/event/5c-projekt-jsa-5-6-stunde/
END:VEVENT
END:VCALENDAR